BEGIN:VCALENDAR
VERSION:2.0
PRODID:-//Animal Rebellion - ECPv6.4.0.1//NONSGML v1.0//EN
CALSCALE:GREGORIAN
METHOD:PUBLISH
X-WR-CALNAME:Animal Rebellion
X-ORIGINAL-URL:https://animalrebellion.org
X-WR-CALDESC:Events for Animal Rebellion
REFRESH-INTERVAL;VALUE=DURATION:PT1H
X-Robots-Tag:noindex
X-PUBLISHED-TTL:PT1H
BEGIN:VTIMEZONE
TZID:Europe/London
BEGIN:DAYLIGHT
TZOFFSETFROM:+0000
TZOFFSETTO:+0100
TZNAME:BST
DTSTART:20200329T010000
END:DAYLIGHT
BEGIN:STANDARD
TZOFFSETFROM:+0100
TZOFFSETTO:+0000
TZNAME:GMT
DTSTART:20201025T010000
END:STANDARD
END:VTIMEZONE
BEGIN:VEVENT
DTSTART;TZID=Europe/London:20200822T110000
DTEND;TZID=Europe/London:20200822T120000
DTSTAMP:20260422T195314
CREATED:20200806T182808Z
LAST-MODIFIED:20200806T182808Z
UID:1514-1598094000-1598097600@animalrebellion.org
SUMMARY:Rebel Ringers. What? Why? And How? ☎️📣
DESCRIPTION:Be part of the Rebellion by calling up other supporters across the country from your own home.  \nRebel Ringers help to continue growing and strengthening the movement by contacting\, informing and engaging with people from the community through caring\, human interactions. Help support rebels in becoming as engaged and active as possible. Come and find out how you can get involved and make a difference.
URL:https://animalrebellion.org/event/rebel-ringers-what-why-and-how-%e2%98%8e%ef%b8%8f%f0%9f%93%a3-4/
LOCATION:https://us02web.zoom.us/j/87417365211\, https://us02web.zoom.us/j/87417365211
CATEGORIES:#AloneTogether
END:VEVENT
BEGIN:VEVENT
DTSTART;TZID=Europe/London:20200822T170000
DTEND;TZID=Europe/London:20200822T190000
DTSTAMP:20260422T195314
CREATED:20200818T162150Z
LAST-MODIFIED:20200818T162150Z
UID:1540-1598115600-1598122800@animalrebellion.org
SUMMARY:Know Your Rights
DESCRIPTION:Rebel safe! This training is recommended for all rebels planning to take direct action\, and aims to create a safer protest environment by empowering all UK rebels with the knowledge to understand the widespread discrimination within policing\, their legal rights and to be aware of how to limit risk to themselves and others.
URL:https://animalrebellion.org/event/know-your-rights-3/
LOCATION:https://us02web.zoom.us/meeting/register/tZIkduGpqzooEtFPQt3cUDQbzciU7LR5y6lG\, https://us02web.zoom.us/meeting/register/tZIkduGpqzooEtFPQt3cUDQbzciU7LR5y6lG
CATEGORIES:#AloneTogether
END:VEVENT
END:VCALENDAR