BEGIN:VCALENDAR
VERSION:2.0
PRODID:-//Animal Rebellion - ECPv6.4.0.1//NONSGML v1.0//EN
CALSCALE:GREGORIAN
METHOD:PUBLISH
X-WR-CALNAME:Animal Rebellion
X-ORIGINAL-URL:https://animalrebellion.org
X-WR-CALDESC:Events for Animal Rebellion
REFRESH-INTERVAL;VALUE=DURATION:PT1H
X-Robots-Tag:noindex
X-PUBLISHED-TTL:PT1H
BEGIN:VTIMEZONE
TZID:Europe/London
BEGIN:DAYLIGHT
TZOFFSETFROM:+0000
TZOFFSETTO:+0100
TZNAME:BST
DTSTART:20200329T010000
END:DAYLIGHT
BEGIN:STANDARD
TZOFFSETFROM:+0100
TZOFFSETTO:+0000
TZNAME:GMT
DTSTART:20201025T010000
END:STANDARD
END:VTIMEZONE
BEGIN:VEVENT
DTSTART;TZID=Europe/London:20200823T100000
DTEND;TZID=Europe/London:20200823T130000
DTSTAMP:20260422T211149
CREATED:20200814T195259Z
LAST-MODIFIED:20200814T195259Z
UID:1532-1598176800-1598187600@animalrebellion.org
SUMMARY:NVDA Training: Complete
DESCRIPTION:Non-violent direct action (NVDA) is the primary means by which we enact change – it’s what Animal Rebellion is all about. This training gives you everything you need to take to action\, and is essential for all rebels who wish to take to the streets to make our voices heard. \nThe first part of this training is about the thinking: why we use NVDA\, why we choose non-violence and about our theory of social change. \nThe second part of this training is about the action: the dos and don’ts\, the whats and hows\, and everything else you will practically need when preparing to take part in direct action.
URL:https://animalrebellion.org/event/nvda-training-complete/
LOCATION:https://us02web.zoom.us/meeting/register/tZYucuqrpzgqGd1uOuDiTX7VW_aMoTt0HNHf\, https://us02web.zoom.us/meeting/register/tZYucuqrpzgqGd1uOuDiTX7VW_aMoTt0HNHf
CATEGORIES:#AloneTogether
END:VEVENT
BEGIN:VEVENT
DTSTART;TZID=Europe/London:20200823T103000
DTEND;TZID=Europe/London:20200823T103000
DTSTAMP:20260422T211149
CREATED:20200818T162152Z
LAST-MODIFIED:20200818T162152Z
UID:1542-1598178600-1598178600@animalrebellion.org
SUMMARY:Consent and the Body Workshop
DESCRIPTION:This online workshop explores issues surrounding consent\, sexual harassment\, and rape culture. It aims to provide participants with a more in-depth understanding of what good consent looks like. It is an interactive workshop and participants are encouraged to contribute. Through this workshop and our introductory workshop\, we hope to normalise discussions about consent in activist spaces\, as we believe that consent should be at the heart of our values as activists.
URL:https://animalrebellion.org/event/consent-and-the-body-workshop/
LOCATION:https://us02web.zoom.us/meeting/register/tZYlcuChpj4iHdErLdqsZNSVdyioPEuxfTjO?fbclid=IwAR3ASf4iDvQFb8vWX5dk_CO_fXrKPGnlTX3G_DlwgsmnC6JAXzBNsdyPXf8\, https://us02web.zoom.us/meeting/register/tZYlcuChpj4iHdErLdqsZNSVdyioPEuxfTjO?fbclid=IwAR3ASf4iDvQFb8vWX5dk_CO_fXrKPGnlTX3G_DlwgsmnC6JAXzBNsdyPXf8
CATEGORIES:#AloneTogether
END:VEVENT
END:VCALENDAR