BEGIN:VCALENDAR
VERSION:2.0
PRODID:-//Animal Rebellion - ECPv6.4.0.1//NONSGML v1.0//EN
CALSCALE:GREGORIAN
METHOD:PUBLISH
X-ORIGINAL-URL:https://animalrebellion.org
X-WR-CALDESC:Events for Animal Rebellion
REFRESH-INTERVAL;VALUE=DURATION:PT1H
X-Robots-Tag:noindex
X-PUBLISHED-TTL:PT1H
BEGIN:VTIMEZONE
TZID:Europe/London
BEGIN:DAYLIGHT
TZOFFSETFROM:+0000
TZOFFSETTO:+0100
TZNAME:BST
DTSTART:20200329T010000
END:DAYLIGHT
BEGIN:STANDARD
TZOFFSETFROM:+0100
TZOFFSETTO:+0000
TZNAME:GMT
DTSTART:20201025T010000
END:STANDARD
END:VTIMEZONE
BEGIN:VEVENT
DTSTART;TZID=Europe/London:20200824T180000
DTEND;TZID=Europe/London:20200824T200000
DTSTAMP:20260422T225037
CREATED:20200818T162152Z
LAST-MODIFIED:20200818T162152Z
UID:1543-1598292000-1598299200@animalrebellion.org
SUMMARY:Know Your Rights
DESCRIPTION:Rebel safe! This training is recommended for all rebels planning to take direct action\, and aims to create a safer protest environment by empowering all UK rebels with the knowledge to understand the widespread discrimination within policing\, their legal rights and to be aware of how to limit risk to themselves and others.
URL:https://animalrebellion.org/event/know-your-rights-4/
LOCATION:https://us02web.zoom.us/meeting/register/tZIkduGpqzooEtFPQt3cUDQbzciU7LR5y6lG\, https://us02web.zoom.us/meeting/register/tZIkduGpqzooEtFPQt3cUDQbzciU7LR5y6lG
CATEGORIES:#AloneTogether
END:VEVENT
BEGIN:VEVENT
DTSTART;TZID=Europe/London:20200826T183000
DTEND;TZID=Europe/London:20200826T203000
DTSTAMP:20260422T225037
CREATED:20200806T182809Z
LAST-MODIFIED:20200806T182809Z
UID:1515-1598466600-1598473800@animalrebellion.org
SUMMARY:Local Ringers
DESCRIPTION:Is your area ready for the Rebellion?  \nWe may be distant right now but still so much unites us! This is your chance to mobilise your community to unite\, connect with each other and grow this Rebellion into something the government can’t ignore! Don’t know where to start? Don’t worry – the Ringers Script Gurus and our tech wizards will do all of the heavy lifting for you. All you have to do is join one of our local ringers webinars which happen every Wednesday at 6:30 and we’ll get you set up to start. It’s that simple!
URL:https://animalrebellion.org/event/local-ringers-5/
LOCATION:https://us02web.zoom.us/j/4740861036\, https://us02web.zoom.us/j/4740861036
CATEGORIES:#AloneTogether
END:VEVENT
BEGIN:VEVENT
DTSTART;TZID=Europe/London:20200827T180000
DTEND;TZID=Europe/London:20200827T200000
DTSTAMP:20260422T225037
CREATED:20200821T195418Z
LAST-MODIFIED:20200821T195418Z
UID:1570-1598551200-1598558400@animalrebellion.org
SUMMARY:Pre-Rebellion DNA
DESCRIPTION:Essential for all Animal Rebels to deepen their understanding of who Animal Rebellion is.  A crash course into how we think\, how we operate and who we are.
URL:https://animalrebellion.org/event/pre-rebellion-dna/
LOCATION:https://us02web.zoom.us/meeting/register/tZUkce-vqzoiEtYDvmJSop4cR7koN618aNBE\, https://us02web.zoom.us/meeting/register/tZUkce-vqzoiEtYDvmJSop4cR7koN618aNBE
CATEGORIES:#AloneTogether
END:VEVENT
BEGIN:VEVENT
DTSTART;TZID=Europe/London:20200829T110000
DTEND;TZID=Europe/London:20200829T120000
DTSTAMP:20260422T225037
CREATED:20200806T182809Z
LAST-MODIFIED:20200806T182809Z
UID:1516-1598698800-1598702400@animalrebellion.org
SUMMARY:Rebel Ringers. What? Why? And How? ☎️📣
DESCRIPTION:Be part of the Rebellion by calling up other supporters across the country from your own home.  \nRebel Ringers help to continue growing and strengthening the movement by contacting\, informing and engaging with people from the community through caring\, human interactions. Help support rebels in becoming as engaged and active as possible. Come and find out how you can get involved and make a difference.
URL:https://animalrebellion.org/event/rebel-ringers-what-why-and-how-%e2%98%8e%ef%b8%8f%f0%9f%93%a3-5/
LOCATION:https://us02web.zoom.us/j/87417365211\, https://us02web.zoom.us/j/87417365211
CATEGORIES:#AloneTogether
END:VEVENT
BEGIN:VEVENT
DTSTART;TZID=Europe/London:20200829T180000
DTEND;TZID=Europe/London:20200829T200000
DTSTAMP:20260422T225037
CREATED:20200821T195419Z
LAST-MODIFIED:20200821T195419Z
UID:1572-1598724000-1598731200@animalrebellion.org
SUMMARY:Pre-Rebellion DNA
DESCRIPTION:Essential for all Animal Rebels to deepen their understanding of who Animal Rebellion is.  A crash course into how we think\, how we operate and who we are.
URL:https://animalrebellion.org/event/pre-rebellion-dna-2/
LOCATION:https://us02web.zoom.us/meeting/register/tZAsfuqprDkqE9XvDk517P7SeP2_HMm7bXJC\, https://us02web.zoom.us/meeting/register/tZAsfuqprDkqE9XvDk517P7SeP2_HMm7bXJC
CATEGORIES:#AloneTogether
END:VEVENT
BEGIN:VEVENT
DTSTART;TZID=Europe/London:20200908T173000
DTEND;TZID=Europe/London:20200908T200000
DTSTAMP:20260422T225037
CREATED:20200821T195419Z
LAST-MODIFIED:20200821T195419Z
UID:1573-1599586200-1599595200@animalrebellion.org
SUMMARY:Connecting Communities: How We're All Connected
DESCRIPTION:
URL:https://animalrebellion.org/event/connecting-communities-how-were-all-connected/
CATEGORIES:#AloneTogether
END:VEVENT
END:VCALENDAR