BEGIN:VCALENDAR
VERSION:2.0
PRODID:-//Animal Rebellion - ECPv6.4.0.1//NONSGML v1.0//EN
CALSCALE:GREGORIAN
METHOD:PUBLISH
X-WR-CALNAME:Animal Rebellion
X-ORIGINAL-URL:https://animalrebellion.org
X-WR-CALDESC:Events for Animal Rebellion
REFRESH-INTERVAL;VALUE=DURATION:PT1H
X-Robots-Tag:noindex
X-PUBLISHED-TTL:PT1H
BEGIN:VTIMEZONE
TZID:UTC
BEGIN:STANDARD
TZOFFSETFROM:+0000
TZOFFSETTO:+0000
TZNAME:UTC
DTSTART:20220101T000000
END:STANDARD
TZID:Europe/London
BEGIN:DAYLIGHT
TZOFFSETFROM:+0000
TZOFFSETTO:+0100
TZNAME:BST
DTSTART:20220327T010000
END:DAYLIGHT
BEGIN:STANDARD
TZOFFSETFROM:+0100
TZOFFSETTO:+0000
TZNAME:GMT
DTSTART:20221030T010000
END:STANDARD
END:VTIMEZONE
BEGIN:VEVENT
DTSTART;TZID=UTC:20220201T180000
DTEND;TZID=UTC:20220201T200000
DTSTAMP:20260422T093859
CREATED:20220119T090306Z
LAST-MODIFIED:20220126T112558Z
UID:5421-1643738400-1643745600@animalrebellion.org
SUMMARY:Online DNA Culture Workshop
DESCRIPTION:Culture underpins how we relate to one another both within our movement and wider society. Come explore how we can build an inclusive\, resilient and empowering culture together at Animal Rebellion. \nThe workshop will be held via Zoom. Register for the workshop here:\nhttps://us02web.zoom.us/meeting/register/tZYrdOmopzkrHNXoLi13ffgndzV0dzD91n3C
URL:https://animalrebellion.org/event/online-dna-culture-workshop/
CATEGORIES:DNA
ATTACH;FMTTYPE=image/jpeg:https://animalrebellion.org/wp-content/uploads/2021/12/culture-dna.jpg
END:VEVENT
BEGIN:VEVENT
DTSTART;TZID=Europe/London:20220207T180000
DTEND;TZID=Europe/London:20220207T200000
DTSTAMP:20260422T093859
CREATED:20220128T141445Z
LAST-MODIFIED:20220128T141445Z
UID:5510-1644256800-1644264000@animalrebellion.org
SUMMARY:Online DNA Story Workshop
DESCRIPTION:This online workshop is an opportunity to explore our personal and shared stories in Animal Rebellion. How do we frame our story as a movement? Why do we use certain words and concepts\, yet avoid others? How does it reach out to people? What do we mean by our ‘shared vision of change’? \nThe workshop will be held via Zoom. Register for the workshop here: \nhttps://us02web.zoom.us/meeting/register/tZcudumrqTotHNTjGkKSAz7QHmwZ5_yEfbqa
URL:https://animalrebellion.org/event/online-dna-story-workshop-2/
CATEGORIES:DNA
ATTACH;FMTTYPE=image/jpeg:https://animalrebellion.org/wp-content/uploads/2021/12/story-dna.jpg
END:VEVENT
BEGIN:VEVENT
DTSTART;TZID=Europe/London:20220227T094500
DTEND;TZID=Europe/London:20220227T180000
DTSTAMP:20260422T093859
CREATED:20220210T145540Z
LAST-MODIFIED:20220210T145540Z
UID:5874-1645955100-1645984800@animalrebellion.org
SUMMARY:DNA Workshop
DESCRIPTION:This core training will cover everything you need to know about Animal Rebellion and our theory of change! What is the social theory we use for our strategy\, what is strategic messaging and framing? How is our culture and structure organised?\n\nThis workshop will be an in-person event. Register here:\nhttps://forms.gle/6ZWiBMME4LcjembQA
URL:https://animalrebellion.org/event/dna-workshop-4/
LOCATION:Finsbury Park\, London
CATEGORIES:DNA
ATTACH;FMTTYPE=image/jpeg:https://animalrebellion.org/wp-content/uploads/2021/09/207E53D2-6FC9-435D-80A9-538FDBFD29FD.jpeg
END:VEVENT
END:VCALENDAR