BEGIN:VCALENDAR
VERSION:2.0
PRODID:-//Animal Rebellion - ECPv6.4.0.1//NONSGML v1.0//EN
CALSCALE:GREGORIAN
METHOD:PUBLISH
X-ORIGINAL-URL:https://animalrebellion.org
X-WR-CALDESC:Events for Animal Rebellion
REFRESH-INTERVAL;VALUE=DURATION:PT1H
X-Robots-Tag:noindex
X-PUBLISHED-TTL:PT1H
BEGIN:VTIMEZONE
TZID:Europe/London
BEGIN:DAYLIGHT
TZOFFSETFROM:+0000
TZOFFSETTO:+0100
TZNAME:BST
DTSTART:20220327T010000
END:DAYLIGHT
BEGIN:STANDARD
TZOFFSETFROM:+0100
TZOFFSETTO:+0000
TZNAME:GMT
DTSTART:20221030T010000
END:STANDARD
END:VTIMEZONE
BEGIN:VEVENT
DTSTART;TZID=Europe/London:20220527T190000
DTEND;TZID=Europe/London:20220527T210000
DTSTAMP:20260420T061500
CREATED:20220519T091032Z
LAST-MODIFIED:20220523T100532Z
UID:6610-1653678000-1653685200@animalrebellion.org
SUMMARY:Online Local Groups DNA Workshop
DESCRIPTION:Understanding our DNA is fundamental for every rebel who takes action in the name of Animal Rebellion. In this core training we’ll be exploring the Strategy\, Story and Culture of Animal Rebellion. This session is for volunteers in local Animal Rebellion groups. \n\n\n\nRegister for this online session here: https://us02web.zoom.us/meeting/register/tZ0oc-GrqjgiH9Dhu_e1PjIbifmH9O_SiJZf
URL:https://animalrebellion.org/event/6610/
LOCATION:Online
CATEGORIES:DNA,Local Groups,LocalGroups,Public
ATTACH;FMTTYPE=image/jpeg:https://animalrebellion.org/wp-content/uploads/2021/09/207E53D2-6FC9-435D-80A9-538FDBFD29FD.jpeg
END:VEVENT
BEGIN:VEVENT
DTSTART;TZID=Europe/London:20220530T183000
DTEND;TZID=Europe/London:20220530T203000
DTSTAMP:20260420T061500
CREATED:20220523T100138Z
LAST-MODIFIED:20220523T203519Z
UID:6654-1653935400-1653942600@animalrebellion.org
SUMMARY:Online Culture DNA Workshop
DESCRIPTION:Culture underpins how we relate to one another both within our movement and wider society. Come explore how we can build an inclusive\, resilient and empowering culture together at Animal Rebellion. \n\n\n\nThe workshop will be held via Zoom. Register for the workshop below.
URL:https://animalrebellion.org/event/6610-copy/
LOCATION:Online
CATEGORIES:DNA
ATTACH;FMTTYPE=image/jpeg:https://animalrebellion.org/wp-content/uploads/2021/12/culture-dna.jpg
END:VEVENT
END:VCALENDAR