BEGIN:VCALENDAR
VERSION:2.0
PRODID:-//Animal Rebellion - ECPv6.4.0.1//NONSGML v1.0//EN
CALSCALE:GREGORIAN
METHOD:PUBLISH
X-WR-CALNAME:Animal Rebellion
X-ORIGINAL-URL:https://animalrebellion.org
X-WR-CALDESC:Events for Animal Rebellion
REFRESH-INTERVAL;VALUE=DURATION:PT1H
X-Robots-Tag:noindex
X-PUBLISHED-TTL:PT1H
BEGIN:VTIMEZONE
TZID:Europe/London
BEGIN:DAYLIGHT
TZOFFSETFROM:+0000
TZOFFSETTO:+0100
TZNAME:BST
DTSTART:20220327T010000
END:DAYLIGHT
BEGIN:STANDARD
TZOFFSETFROM:+0100
TZOFFSETTO:+0000
TZNAME:GMT
DTSTART:20221030T010000
END:STANDARD
END:VTIMEZONE
BEGIN:VEVENT
DTSTART;TZID=Europe/London:20220720T180000
DTEND;TZID=Europe/London:20220720T200000
DTSTAMP:20260420T031331
CREATED:20220717T112717Z
LAST-MODIFIED:20220717T114405Z
UID:7132-1658340000-1658347200@animalrebellion.org
SUMMARY:Online Local Groups DNA Workshop
DESCRIPTION:Understanding our DNA is fundamental for every rebel who takes action in the name of Animal Rebellion. In this core training we’ll be exploring the Strategy\, Story and Culture of Animal Rebellion. This session is for volunteers in local Animal Rebellion groups. Register for this online session below
URL:https://animalrebellion.org/event/online-local-groups-dna-workshop/
LOCATION:Online
CATEGORIES:DNA,Local Groups
ATTACH;FMTTYPE=image/jpeg:https://animalrebellion.org/wp-content/uploads/2021/09/207E53D2-6FC9-435D-80A9-538FDBFD29FD.jpeg
END:VEVENT
END:VCALENDAR