BEGIN:VCALENDAR
VERSION:2.0
PRODID:-//Animal Rebellion - ECPv6.4.0.1//NONSGML v1.0//EN
CALSCALE:GREGORIAN
METHOD:PUBLISH
X-WR-CALNAME:Animal Rebellion
X-ORIGINAL-URL:https://animalrebellion.org
X-WR-CALDESC:Events for Animal Rebellion
REFRESH-INTERVAL;VALUE=DURATION:PT1H
X-Robots-Tag:noindex
X-PUBLISHED-TTL:PT1H
BEGIN:VTIMEZONE
TZID:Europe/London
BEGIN:DAYLIGHT
TZOFFSETFROM:+0000
TZOFFSETTO:+0100
TZNAME:BST
DTSTART:20210328T010000
END:DAYLIGHT
BEGIN:STANDARD
TZOFFSETFROM:+0100
TZOFFSETTO:+0000
TZNAME:GMT
DTSTART:20211031T010000
END:STANDARD
END:VTIMEZONE
BEGIN:VEVENT
DTSTART;TZID=Europe/London:20210213T110000
DTEND;TZID=Europe/London:20210213T130000
DTSTAMP:20260423T070708
CREATED:20210131T030254Z
LAST-MODIFIED:20210131T030254Z
UID:2925-1613214000-1613221200@animalrebellion.org
SUMMARY:Spokespeople Training Workshop
DESCRIPTION:Part of what makes Animal Rebellion amazing is the wonderful and diverse people who volunteer and by being a spokesperson\, you represent this\,  our message and our values. We want you to be able to share your voice\, so if you’re new to Animal Rebellion or you’ve been with us for a while\, this training will be available for you to practice your speaking skills whether that is through speech or interviews.  It only gets easier with practice!
URL:https://animalrebellion.org/event/spokespeople-training-workshop/
LOCATION:Online
CATEGORIES:Learning Skool,Virtual Village
END:VEVENT
END:VCALENDAR