BEGIN:VCALENDAR
VERSION:2.0
PRODID:-//Animal Rebellion - ECPv6.4.0.1//NONSGML v1.0//EN
CALSCALE:GREGORIAN
METHOD:PUBLISH
X-WR-CALNAME:Animal Rebellion
X-ORIGINAL-URL:https://animalrebellion.org
X-WR-CALDESC:Events for Animal Rebellion
REFRESH-INTERVAL;VALUE=DURATION:PT1H
X-Robots-Tag:noindex
X-PUBLISHED-TTL:PT1H
BEGIN:VTIMEZONE
TZID:Europe/London
BEGIN:DAYLIGHT
TZOFFSETFROM:+0000
TZOFFSETTO:+0100
TZNAME:BST
DTSTART:20210328T010000
END:DAYLIGHT
BEGIN:STANDARD
TZOFFSETFROM:+0100
TZOFFSETTO:+0000
TZNAME:GMT
DTSTART:20211031T010000
END:STANDARD
END:VTIMEZONE
BEGIN:VEVENT
DTSTART;TZID=Europe/London:20210222T183000
DTEND;TZID=Europe/London:20210222T200000
DTSTAMP:20260423T070708
CREATED:20210208T010125Z
LAST-MODIFIED:20210209T015244Z
UID:3028-1614018600-1614024000@animalrebellion.org
SUMMARY:Police Liaison Training
DESCRIPTION:A short introduction covering the underlying strategy and practice of liaising with the police within the context of nonviolent civil disobedience at protest actions. If you are interested in getting involved in police liaison for your site or group in upcoming actions\, this introduction will cover the basic dos and don’t \, hows and whys of what has evolved into a strategic part of the rebellion. It will be a basic workshop lasting around 90 minutes.Ideally participants should have NVDA training\, Know Your Rights training and some action experience.
URL:https://animalrebellion.org/event/police-liaison-training-4/
LOCATION:Online
CATEGORIES:Learning Skool,Virtual Village
END:VEVENT
END:VCALENDAR