BEGIN:VCALENDAR
VERSION:2.0
PRODID:-//Animal Rebellion - ECPv6.4.0.1//NONSGML v1.0//EN
CALSCALE:GREGORIAN
METHOD:PUBLISH
X-WR-CALNAME:Animal Rebellion
X-ORIGINAL-URL:https://animalrebellion.org
X-WR-CALDESC:Events for Animal Rebellion
REFRESH-INTERVAL;VALUE=DURATION:PT1H
X-Robots-Tag:noindex
X-PUBLISHED-TTL:PT1H
BEGIN:VTIMEZONE
TZID:Europe/London
BEGIN:DAYLIGHT
TZOFFSETFROM:+0000
TZOFFSETTO:+0100
TZNAME:BST
DTSTART:20210328T010000
END:DAYLIGHT
BEGIN:STANDARD
TZOFFSETFROM:+0100
TZOFFSETTO:+0000
TZNAME:GMT
DTSTART:20211031T010000
END:STANDARD
END:VTIMEZONE
BEGIN:VEVENT
DTSTART;TZID=Europe/London:20210224T183000
DTEND;TZID=Europe/London:20210224T200000
DTSTAMP:20260423T070710
CREATED:20210208T010311Z
LAST-MODIFIED:20210219T130011Z
UID:3030-1614191400-1614196800@animalrebellion.org
SUMMARY:Deescalation Training
DESCRIPTION:Learn the basics of De-escalation rooted in Nonviolent Communication. How might you de-escalate a tense situation with someone who disagrees with you but is in dialogue with you? How might you de-escalate with very angry or drunk people in protest situations? How might you authentically express your motivation for being involved in Animal Rebellion? Come and learn and expand into empathic connection with those who might disagree or want to disrupt you. This session is an Intro to NVC De-escalation skills\, for use during Animal Rebellion actions and for use in other social change movements utilising NVDA to support these movements to cultivate a stronger culture of nonviolence. Skills learnt are of use in actions as well as in meetings and organising.
URL:https://animalrebellion.org/event/deescalation-training/
LOCATION:Online
CATEGORIES:Learning Skool,Virtual Village
END:VEVENT
END:VCALENDAR