BEGIN:VCALENDAR
VERSION:2.0
PRODID:-//Animal Rebellion - ECPv6.4.0.1//NONSGML v1.0//EN
CALSCALE:GREGORIAN
METHOD:PUBLISH
X-ORIGINAL-URL:https://animalrebellion.org
X-WR-CALDESC:Events for Animal Rebellion
REFRESH-INTERVAL;VALUE=DURATION:PT1H
X-Robots-Tag:noindex
X-PUBLISHED-TTL:PT1H
BEGIN:VTIMEZONE
TZID:Europe/London
BEGIN:DAYLIGHT
TZOFFSETFROM:+0000
TZOFFSETTO:+0100
TZNAME:BST
DTSTART:20210328T010000
END:DAYLIGHT
BEGIN:STANDARD
TZOFFSETFROM:+0100
TZOFFSETTO:+0000
TZNAME:GMT
DTSTART:20211031T010000
END:STANDARD
END:VTIMEZONE
BEGIN:VEVENT
DTSTART;TZID=Europe/London:20210321T190000
DTEND;TZID=Europe/London:20210321T203000
DTSTAMP:20260423T054955
CREATED:20210319T171934Z
LAST-MODIFIED:20210319T171956Z
UID:3455-1616353200-1616358600@animalrebellion.org
SUMMARY:Animal Rebellion's Messaging Drop in Session
DESCRIPTION:A drop in session with Animal Rebellion’s Messaging Team! if you have any questions\, queries\, are in need of advice or have any suggestions then please join this space for open discussion.
URL:https://animalrebellion.org/event/animal-rebellions-messaging-drop-in-session/
LOCATION:Online
CATEGORIES:Learning Skool,Virtual Village
END:VEVENT
END:VCALENDAR