BEGIN:VCALENDAR
VERSION:2.0
PRODID:-//Animal Rebellion - ECPv6.4.0.1//NONSGML v1.0//EN
CALSCALE:GREGORIAN
METHOD:PUBLISH
X-WR-CALNAME:Animal Rebellion
X-ORIGINAL-URL:https://animalrebellion.org
X-WR-CALDESC:Events for Animal Rebellion
REFRESH-INTERVAL;VALUE=DURATION:PT1H
X-Robots-Tag:noindex
X-PUBLISHED-TTL:PT1H
BEGIN:VTIMEZONE
TZID:Europe/London
BEGIN:DAYLIGHT
TZOFFSETFROM:+0000
TZOFFSETTO:+0100
TZNAME:BST
DTSTART:20210328T010000
END:DAYLIGHT
BEGIN:STANDARD
TZOFFSETFROM:+0100
TZOFFSETTO:+0000
TZNAME:GMT
DTSTART:20211031T010000
END:STANDARD
END:VTIMEZONE
BEGIN:VEVENT
DTSTART;TZID=Europe/London:20210511T183000
DTEND;TZID=Europe/London:20210511T203000
DTSTAMP:20260423T024316
CREATED:20210508T163349Z
LAST-MODIFIED:20210508T163414Z
UID:3617-1620757800-1620765000@animalrebellion.org
SUMMARY:De-escalation Training
DESCRIPTION:De-escalation Training \nTue 11/05 6:30-8:30pm GMT \nLearn the basics of De-escalation rooted in Nonviolent Communication. \nHow might you de-escalate a tense situation with someone who disagrees with you but is in dialogue with you? \nHow might you de-escalate with very angry or drunk people in protest situations? \nHow might you authentically express your motivation for being involved in Animal Rebellion? \nCome and learn and expand into empathic connection with those who might disagree or want to disrupt you. \nThis session is an Intro to NVC De-escalation skills\, for use during Animal Rebellion actions and for use in other social change movements utilising NVDA to support these movements to cultivate a stronger culture of nonviolence. Skills learnt are of use in actions as well as in meetings and organising. \nRegister for this Training via the Zoom link here:\nhttps://us02web.zoom.us/meeting/register/tZAtf-GorT0vE9Nv79cIXoFPU7isbod2Ndhl
URL:https://animalrebellion.org/event/de-escalation-training-2/
LOCATION:Online
CATEGORIES:Learning Skool
END:VEVENT
END:VCALENDAR