BEGIN:VCALENDAR
VERSION:2.0
PRODID:-//Animal Rebellion - ECPv6.4.0.1//NONSGML v1.0//EN
CALSCALE:GREGORIAN
METHOD:PUBLISH
X-WR-CALNAME:Animal Rebellion
X-ORIGINAL-URL:https://animalrebellion.org
X-WR-CALDESC:Events for Animal Rebellion
REFRESH-INTERVAL;VALUE=DURATION:PT1H
X-Robots-Tag:noindex
X-PUBLISHED-TTL:PT1H
BEGIN:VTIMEZONE
TZID:Europe/London
BEGIN:DAYLIGHT
TZOFFSETFROM:+0000
TZOFFSETTO:+0100
TZNAME:BST
DTSTART:20210328T010000
END:DAYLIGHT
BEGIN:STANDARD
TZOFFSETFROM:+0100
TZOFFSETTO:+0000
TZNAME:GMT
DTSTART:20211031T010000
END:STANDARD
TZID:UTC
BEGIN:STANDARD
TZOFFSETFROM:+0000
TZOFFSETTO:+0000
TZNAME:UTC
DTSTART:20210101T000000
END:STANDARD
END:VTIMEZONE
BEGIN:VEVENT
DTSTART;TZID=Europe/London:20210315T180000
DTEND;TZID=Europe/London:20210315T200000
DTSTAMP:20260423T113600
CREATED:20210306T223733Z
LAST-MODIFIED:20210306T223733Z
UID:3307-1615831200-1615838400@animalrebellion.org
SUMMARY:Negotiation Training for Activists
DESCRIPTION:If you don’t ask\, you won’t get. Asking\, demanding\, protesting\, lobbying for something\, or for someone to do something\, is a negotiation. It might just be ‘if you do this\, then we’ll stop hassling you.’ Knowing how to negotiate is key to successful campaigning.\nThis session will cover the key frameworks to make you a better negotiator\, campaigner and help you get what you want and animals and the planet need.
URL:https://animalrebellion.org/event/negotiation-training-for-activists/
LOCATION:Online
CATEGORIES:Learning Skool,Virtual Village
END:VEVENT
BEGIN:VEVENT
DTSTART;TZID=Europe/London:20210321T190000
DTEND;TZID=Europe/London:20210321T203000
DTSTAMP:20260423T113600
CREATED:20210319T171934Z
LAST-MODIFIED:20210319T171956Z
UID:3455-1616353200-1616358600@animalrebellion.org
SUMMARY:Animal Rebellion's Messaging Drop in Session
DESCRIPTION:A drop in session with Animal Rebellion’s Messaging Team! if you have any questions\, queries\, are in need of advice or have any suggestions then please join this space for open discussion.
URL:https://animalrebellion.org/event/animal-rebellions-messaging-drop-in-session/
LOCATION:Online
CATEGORIES:Learning Skool,Virtual Village
END:VEVENT
BEGIN:VEVENT
DTSTART;TZID=Europe/London:20210328T183000
DTEND;TZID=Europe/London:20210328T200000
DTSTAMP:20260423T113600
CREATED:20210411T235848Z
LAST-MODIFIED:20210315T132817Z
UID:3405-1616956200-1616961600@animalrebellion.org
SUMMARY:Sound the Alarm - Emergency Messaging and Hope-Based Communication
DESCRIPTION:In 2018 XR launched with a bang with a message of urgency. Now\, 3 years later\, is it time to reconsider our use of emergency messaging as a movement? In this presentation we’ll walk through recent research into framing and communication in the environmental justice movement and how we can use it to supercharge our communications this year and beyond
URL:https://animalrebellion.org/event/sound-the-alarm-emergency-messaging-and-hope-based-communication-2/
LOCATION:Online
CATEGORIES:Learning Skool,Virtual Village
END:VEVENT
BEGIN:VEVENT
DTSTART;TZID=Europe/London:20210411T160000
DTEND;TZID=Europe/London:20210411T180000
DTSTAMP:20260423T113600
CREATED:20210403T232041Z
LAST-MODIFIED:20210403T232041Z
UID:3485-1618156800-1618164000@animalrebellion.org
SUMMARY:Tell Your Story! – Public Narrative Training for Outreach and Public Speaking
DESCRIPTION:
URL:https://animalrebellion.org/event/tell-your-story-public-narrative-training-for-outreach-and-public-speaking/
LOCATION:Online
CATEGORIES:Learning Skool,Virtual Village
END:VEVENT
BEGIN:VEVENT
DTSTART;TZID=Europe/London:20210427T183000
DTEND;TZID=Europe/London:20210427T200000
DTSTAMP:20260423T113600
CREATED:20210421T095151Z
LAST-MODIFIED:20210421T095151Z
UID:3568-1619548200-1619553600@animalrebellion.org
SUMMARY:Practical Messaging
DESCRIPTION:Ever seen a banner or sign at an action that’s stuck with you? We all want to make sure our messaging cuts through\, makes it clear what we are trying to do and remains stuck in people’s minds.\nIn this training we’ll work through some tips\, techniques and tricks for developing memorable messaging for actions and campaigns. From iconic posters to unforgettable banners we’ll talk through some easy changes you can make to get your message across.\nRegister here:\nhttps://us02web.zoom.us/meeting/register/tZMocO2hrj8uGdXUX9kf9jYpxllb2fbdEISD
URL:https://animalrebellion.org/event/practical-messaging/
LOCATION:Online
CATEGORIES:Learning Skool
END:VEVENT
BEGIN:VEVENT
DTSTART;TZID=Europe/London:20210511T183000
DTEND;TZID=Europe/London:20210511T203000
DTSTAMP:20260423T113600
CREATED:20210508T163349Z
LAST-MODIFIED:20210508T163414Z
UID:3617-1620757800-1620765000@animalrebellion.org
SUMMARY:De-escalation Training
DESCRIPTION:De-escalation Training \nTue 11/05 6:30-8:30pm GMT \nLearn the basics of De-escalation rooted in Nonviolent Communication. \nHow might you de-escalate a tense situation with someone who disagrees with you but is in dialogue with you? \nHow might you de-escalate with very angry or drunk people in protest situations? \nHow might you authentically express your motivation for being involved in Animal Rebellion? \nCome and learn and expand into empathic connection with those who might disagree or want to disrupt you. \nThis session is an Intro to NVC De-escalation skills\, for use during Animal Rebellion actions and for use in other social change movements utilising NVDA to support these movements to cultivate a stronger culture of nonviolence. Skills learnt are of use in actions as well as in meetings and organising. \nRegister for this Training via the Zoom link here:\nhttps://us02web.zoom.us/meeting/register/tZAtf-GorT0vE9Nv79cIXoFPU7isbod2Ndhl
URL:https://animalrebellion.org/event/de-escalation-training-2/
LOCATION:Online
CATEGORIES:Learning Skool
END:VEVENT
BEGIN:VEVENT
DTSTART;TZID=Europe/London:20210529T180000
DTEND;TZID=Europe/London:20210529T200000
DTSTAMP:20260423T113600
CREATED:20210508T164401Z
LAST-MODIFIED:20210508T170534Z
UID:3624-1622311200-1622318400@animalrebellion.org
SUMMARY:Book Club Session 1: Five Essays for Freedom: A political primer for animal advocates
DESCRIPTION:Registration link: https://zoom.us/meeting/register/tJAucu-pqD4jG9HVpurAA8qcHS5VYlSp7ACc \nYou are encouraged to pre-read the materials prior to the session but this is not a requisite to join. The more important thing is turning up and join the conversation. Prior to each session you will receive an email with a short list of key points from the reading to allow everyone to engage with discussions. \nIn this session we will discuss the essay: Unravelling the animal industrial complex \nYou can get the ebook here [https://www.revolutionaries.com.au/ebooks/p/feff] and paperback here [https://www.revolutionaries.com.au/books/p/five-essays-for-freedom]\nIf cost is a barrier for you\, please get in touch with us at bookclub@animalrebellion.org \nAbout the book \nFive Essays for Freedom: A political primer for animal advocates \nAnimal liberationist and emerging avant-garde theorist\, Kristy Alger\, provides a scathing\, provocative exposé of the animal industrial complex in Five Essays for Freedom. Contextualised in current-day Australia\, this essay collection is a political primer for the animal advocate\, both curious and experienced alike.\nAlger writes that an understanding of the politics of animal exploitation is critical for the realisation of animal liberation. For if animal advocates do not understand the politics of animal exploitation they cannot hope to disrupt the webs of corporations and government that guarantee its continuation\, to the detriment of other animals\, humankind and the Earth.\nAlger asserts that the animal rights movement must extend its scope beyond the promotion of apolitical vegan consumerism as a means to create that accessibility\, for the realisation of justice. In doing so\, animal advocates can begin pulling at the intersecting threads of the animal industrial complex\, progressing towards a future where they themselves are freed from the web alongside the other animals they seek to advocate for.\nThis collection of essays is just the beginning in a new revolution that extends beyond veganism and challenges the very notion of what it means to be an animal advocate and a human being. \nFirst session: May 29 6-8pm UK Time\nSecond session: June 19 6-8pm UK Time https://www.facebook.com/events/217065169866410\nThird session July 24 6-8pm UK Time https://www.facebook.com/events/164781025562792/
URL:https://animalrebellion.org/event/book-club-session-1-five-essays-for-freedom-a-political-primer-for-animal-advocates/
LOCATION:Online
CATEGORIES:Learning Skool
END:VEVENT
BEGIN:VEVENT
DTSTART;TZID=Europe/London:20210605T150000
DTEND;TZID=Europe/London:20210605T180000
DTSTAMP:20260423T113600
CREATED:20210508T225005Z
LAST-MODIFIED:20210530T220400Z
UID:3627-1622905200-1622916000@animalrebellion.org
SUMMARY:NVDA (non-violent direct action) Training
DESCRIPTION:Non-Violent Direct Action is at the heart of what Animal Rebellion does. This core training is fundamental for all rebels thinking of attending our actions\, though these are universal principles that strengthen the efficacy of any protest. \nMake sure you are ready for G7 and the summer of resistance we have ahead\, by getting our core trainings under your belt! \nWe look forward to seeing you! \nRegister via this link:\nhttps://zoom.us/meeting/register/tJctcuGqrjwvHNWd5ek-4aQt7o384oOyCeJY \nFacebook Event\nhttps://www.facebook.com/events/1124303941327827 \n 
URL:https://animalrebellion.org/event/nvda-non-violent-direct-action-training/
LOCATION:Online
CATEGORIES:Learning Skool
END:VEVENT
BEGIN:VEVENT
DTSTART;TZID=UTC:20211126T183000
DTEND;TZID=UTC:20211126T203000
DTSTAMP:20260423T113600
CREATED:20211102T154157Z
LAST-MODIFIED:20211102T154157Z
UID:4868-1637951400-1637958600@animalrebellion.org
SUMMARY:Non-Violent Direct Action
DESCRIPTION:NVDA is a fundamental component of our theory of change. But why non-violence and what are some of the tactics we can use? We’ll explore these concepts and more in this core training\, that is a must for all Animal Rebels to attend! \nRegister in advance- https://us06web.zoom.us/meeting/register/tZYlcOuuqT0vH9Ue9zwHF3lsWnu1Qvl4aD_C
URL:https://animalrebellion.org/event/non-violent-direct-action-2/
CATEGORIES:Learning Skool,Talks & Trainings
ATTACH;FMTTYPE=image/jpeg:https://animalrebellion.org/wp-content/uploads/2021/11/182980200_936456877106549_8573060960307469732_n.jpg
END:VEVENT
BEGIN:VEVENT
DTSTART;TZID=UTC:20211215T183000
DTEND;TZID=UTC:20211215T203000
DTSTAMP:20260423T113600
CREATED:20211208T050332Z
LAST-MODIFIED:20211208T050332Z
UID:4984-1639593000-1639600200@animalrebellion.org
SUMMARY:Animal Rebellion DNA
DESCRIPTION:Understanding our shared DNA is fundamental for every rebel who takes action in the name of Animal Rebellion. In this core training we’ll be exploring the Strategy\, Story\, Culture and Structure of Animal Rebellion. \n  \nRegister for this online session here- https://us06web.zoom.us/meeting/register/tZIuce6vpz4rGdY-KV7BKX-l2XWbyHygB9GD
URL:https://animalrebellion.org/event/animal-rebellion-dna-2/
CATEGORIES:DNA,Learning Skool,Talks & Trainings
ATTACH;FMTTYPE=image/jpeg:https://animalrebellion.org/wp-content/uploads/2021/09/207E53D2-6FC9-435D-80A9-538FDBFD29FD.jpeg
END:VEVENT
BEGIN:VEVENT
DTSTART;TZID=UTC:20211216T183000
DTEND;TZID=UTC:20211216T203000
DTSTAMP:20260423T113600
CREATED:20211208T050027Z
LAST-MODIFIED:20211208T050027Z
UID:4981-1639679400-1639686600@animalrebellion.org
SUMMARY:Non-Violent Direct Action
DESCRIPTION:NVDA is a fundamental component of our theory of change. But why non-violence and what are some of the tactics we can use? We’ll explore these concepts and more in this core training\, that is a must for all Animal Rebels to attend! \nRegister for this online session here- https://us06web.zoom.us/meeting/register/tZ0ud-mtrDstGN2vyFCoMZFdiFM9e2X_BBIg
URL:https://animalrebellion.org/event/non-violent-direct-action-3/
CATEGORIES:Learning Skool,Talks & Trainings
ATTACH;FMTTYPE=image/jpeg:https://animalrebellion.org/wp-content/uploads/2021/11/182980200_936456877106549_8573060960307469732_n.jpg
END:VEVENT
END:VCALENDAR