BEGIN:VCALENDAR
VERSION:2.0
PRODID:-//Animal Rebellion - ECPv6.4.0.1//NONSGML v1.0//EN
CALSCALE:GREGORIAN
METHOD:PUBLISH
X-WR-CALNAME:Animal Rebellion
X-ORIGINAL-URL:https://animalrebellion.org
X-WR-CALDESC:Events for Animal Rebellion
REFRESH-INTERVAL;VALUE=DURATION:PT1H
X-Robots-Tag:noindex
X-PUBLISHED-TTL:PT1H
BEGIN:VTIMEZONE
TZID:Europe/London
BEGIN:DAYLIGHT
TZOFFSETFROM:+0000
TZOFFSETTO:+0100
TZNAME:BST
DTSTART:20220327T010000
END:DAYLIGHT
BEGIN:STANDARD
TZOFFSETFROM:+0100
TZOFFSETTO:+0000
TZNAME:GMT
DTSTART:20221030T010000
END:STANDARD
END:VTIMEZONE
BEGIN:VEVENT
DTSTART;TZID=Europe/London:20220522T120000
DTEND;TZID=Europe/London:20220522T140000
DTSTAMP:20260422T211305
CREATED:20220512T121157Z
LAST-MODIFIED:20220521T003051Z
UID:6591-1653220800-1653228000@animalrebellion.org
SUMMARY:UPDATED SOCIAL - Speakers Corner Vegan Takeover
DESCRIPTION:UPDATE: This social is moving to Hyde Park as we join climate and animal activists in a Speakers Corner Vegan Takeover! \n \nWe’ll listen\, learn\, soak up the sun\, and go for delicious plant-based doughnuts nearby. \n\nMeeting at Speakers Corner\, Hyde Park at 12pm.\nFeel free to bring signs\, and a platform if you’re feeling brave.\n \nAll you need is yourself\, we are a super friendly group and eager to meet some new faces! Newbies and quiet people always welcome.\n \nJoin our WhatsApp here: https://chat.whatsapp.com/HYcMc8iZ140BPOxE6yhp09\n \nPlease be aware that there may be graphic language and images at this event.
URL:https://animalrebellion.org/event/social-sundays-2-copy-copy-2/
LOCATION:Hyde Park\, Hyde Park\, London\, W2 2UH\, United Kingdom
CATEGORIES:Local Groups,Public
ATTACH;FMTTYPE=image/png:https://animalrebellion.org/wp-content/uploads/2022/01/Social-sundays-facebook-event-banner.png
END:VEVENT
END:VCALENDAR