BEGIN:VCALENDAR
VERSION:2.0
PRODID:-//Animal Rebellion - ECPv6.4.0.1//NONSGML v1.0//EN
CALSCALE:GREGORIAN
METHOD:PUBLISH
X-ORIGINAL-URL:https://animalrebellion.org
X-WR-CALDESC:Events for Animal Rebellion
REFRESH-INTERVAL;VALUE=DURATION:PT1H
X-Robots-Tag:noindex
X-PUBLISHED-TTL:PT1H
BEGIN:VTIMEZONE
TZID:Europe/London
BEGIN:DAYLIGHT
TZOFFSETFROM:+0000
TZOFFSETTO:+0100
TZNAME:BST
DTSTART:20220327T010000
END:DAYLIGHT
BEGIN:STANDARD
TZOFFSETFROM:+0100
TZOFFSETTO:+0000
TZNAME:GMT
DTSTART:20221030T010000
END:STANDARD
END:VTIMEZONE
BEGIN:VEVENT
DTSTART;TZID=Europe/London:20220703T100000
DTEND;TZID=Europe/London:20220703T170000
DTSTAMP:20260420T051650
CREATED:20220628T154447Z
LAST-MODIFIED:20220628T154447Z
UID:6929-1656842400-1656867600@animalrebellion.org
SUMMARY:Southend Vegan Fair
DESCRIPTION:Southend Vegan Fair is back for Summer 2022 with a massive outdoor area.Expect loads of great vegan food\, animal rights stalls\, clothing\, health products and makeup products.Talks! Music! Kids play area!Animal Rebellion Essex Crew will be at Southend Vegan Festival with plenty of stickers\, badges\, poster and patches. Come along and talk to Rebels about the group\, local talks and how you can get involved
URL:https://animalrebellion.org/event/southend-vegan-fair/
LOCATION:Ecko Club\, Ecko Club\, Thornford Gardens\, Southend-on-sea\, SS2 6PU\, United Kingdom
CATEGORIES:Local Groups,South,South East
ATTACH;FMTTYPE=image/png:https://animalrebellion.org/wp-content/uploads/2022/01/cropped-SiteIcon.png
END:VEVENT
BEGIN:VEVENT
DTSTART;TZID=Europe/London:20220709T140000
DTEND;TZID=Europe/London:20220709T160000
DTSTAMP:20260420T051650
CREATED:20220628T154015Z
LAST-MODIFIED:20220628T154016Z
UID:6923-1657375200-1657382400@animalrebellion.org
SUMMARY:Stop The Supply - Southend Talk
DESCRIPTION:This September Animal Rebellion will be nonviolently stopping the supply of dairy across the UK with 500 people over a 1-2 week period\, cutting off the supply of milk to supermarkets and causing disruption day after day means we will transform public opinion and pressure the government to act. \n\n\n\nWe must take this action because billions of animals are dying in the dairy\, animal farming and fishing industry.We must take this action because we are in a climate and nature emergency and what we do in the next 2-3 years will determine the future of humanity. \n\n\n\nCome along to our talk in Southend to hear about the campaign and find out how you can get involved.Quakers Meeting HouseAddress: 18 Dundonald Drive\, Leigh-on-Sea\, Southend-on-Sea\, SS9 1NBStarting at 2pm – End By 4pm \n\n\n\nThis talk has been adapted for families to attend. We will be offering light plant based refreshments\, and colouring for children.If you have additional needs please contact us so we can offer support.Any further questions can be sent to our facebook page or email animalrebellionessex@protonmail.com
URL:https://animalrebellion.org/event/stop-the-supply-southend-talk/
LOCATION:Quakers Meeting House\, 18 Dundonald Drive\, Leigh-on-Sea\, SS9 1NB\, United Kingdom
CATEGORIES:Local Groups,South,South East
ATTACH;FMTTYPE=image/jpeg:https://animalrebellion.org/wp-content/uploads/2022/06/signal-2022-06-08-092450_001.jpeg
END:VEVENT
BEGIN:VEVENT
DTSTART;TZID=Europe/London:20220711T170000
DTEND;TZID=Europe/London:20220711T183000
DTSTAMP:20260420T051650
CREATED:20220707T221518Z
LAST-MODIFIED:20220707T221519Z
UID:7016-1657558800-1657564200@animalrebellion.org
SUMMARY:Stop the supply - Brighton Talk
DESCRIPTION:This September Animal Rebellion will be nonviolently stopping the supply of dairy across the UK with 500 people over a 1-2 week period\, cutting off the supply of milk to supermarkets and causing unignorable high-level disruption which will be felt by tens of million of people across the UK.By causing this disruption day after day we will transform public opinion and pressure the government to act.We must take this action because billions of animals are dying in the dairy industry and other animal farming and fishing industries.We must take this action because we are in a climate and nature emergency and what we do in the next 2-3 years will determine the future of humanity.The science tells us that transitioning to a plant-based future and rewilding the freed-up land is the key solution to the climate and nature emergencies. We can bring back wildlife and drawdown enough carbon from the atmosphere to make the UK net negative in emissions. This will buy us the critical time we need to make other transformative changes and prevent environmental catastrophe. We will be demanding this of the government.This will be the first in person event of the Brighton Plant Based Futures hub – it will be a chance to meet people in this community and establish vital local connections with others fighting for a livable\, plant based future.Come along to this talk to hear about the campaign and find out how you can get involved. We rebel for all life.Hope to see you there!
URL:https://animalrebellion.org/event/stop-the-supply-brighton-talk/
LOCATION:Brighthelm Centre\, Brighthelm Centre\, North road\, Brighton\, BN1 1YD\, United Kingdom
CATEGORIES:Local Groups,South,South East
ATTACH;FMTTYPE=image/jpeg:https://animalrebellion.org/wp-content/uploads/2022/06/signal-2022-06-08-092450_001.jpeg
END:VEVENT
END:VCALENDAR