BEGIN:VCALENDAR
VERSION:2.0
PRODID:-//Animal Rebellion - ECPv6.4.0.1//NONSGML v1.0//EN
CALSCALE:GREGORIAN
METHOD:PUBLISH
X-ORIGINAL-URL:https://animalrebellion.org
X-WR-CALDESC:Events for Animal Rebellion
REFRESH-INTERVAL;VALUE=DURATION:PT1H
X-Robots-Tag:noindex
X-PUBLISHED-TTL:PT1H
BEGIN:VTIMEZONE
TZID:Europe/London
BEGIN:DAYLIGHT
TZOFFSETFROM:+0000
TZOFFSETTO:+0100
TZNAME:BST
DTSTART:20210328T010000
END:DAYLIGHT
BEGIN:STANDARD
TZOFFSETFROM:+0100
TZOFFSETTO:+0000
TZNAME:GMT
DTSTART:20211031T010000
END:STANDARD
END:VTIMEZONE
BEGIN:VEVENT
DTSTART;TZID=Europe/London:20210119T190000
DTEND;TZID=Europe/London:20210119T203000
DTSTAMP:20260426T040803
CREATED:20210103T183738Z
LAST-MODIFIED:20210110T220729Z
UID:2562-1611082800-1611088200@animalrebellion.org
SUMMARY:People's Assembly
DESCRIPTION:People’s Assemblies are a way for a group of people to discuss issues or make decisions collectively\, where all voices are heard and valued equally and no one person or group are able to dominate the process.\nPeople’s Assemblies play a vital role in our decision making process\, and even more so during the rebellion where we will need to hold impromptu assemblies depending on the situations we encounter.
URL:https://animalrebellion.org/event/peoples-assembly-3/
LOCATION:Online
CATEGORIES:Solidarity Stage,Virtual Village
END:VEVENT
BEGIN:VEVENT
DTSTART;TZID=Europe/London:20210118T190000
DTEND;TZID=Europe/London:20210118T203000
DTSTAMP:20260426T040803
CREATED:20210103T191050Z
LAST-MODIFIED:20210110T221448Z
UID:2603-1610996400-1611001800@animalrebellion.org
SUMMARY:Plant-based Future Talk
DESCRIPTION:It’s official\, the climate is changing rapidly and we’re all feeling the heat. But what’s actually happening and what can we do about it? In this talk\, Animal Rebellion summarises what has caused the climate emergency\, what we can do about it and how to get involved.\nJoin us for this online talk and learn more about the climate breakdown\, meet new people and ask any questions you have in the 20 minutes Q&A following the talk.\nWe may be facing dark times ahead but there’s always an opportunity for positive change. We come in peace\, love and solidarity and invite you to join us in this rebellion!
URL:https://animalrebellion.org/event/plant-based-future-3/
LOCATION:Online
CATEGORIES:Virtual Village,Welcome Campfire
END:VEVENT
BEGIN:VEVENT
DTSTART;TZID=Europe/London:20210117T170000
DTEND;TZID=Europe/London:20210117T190000
DTSTAMP:20260426T040803
CREATED:20210103T183551Z
LAST-MODIFIED:20210110T215420Z
UID:2558-1610902800-1610910000@animalrebellion.org
SUMMARY:Mobilisation Workshop
DESCRIPTION:Come along to learn about how we can grow our movement by reaching out to\, and bringing in new supporters
URL:https://animalrebellion.org/event/mobilisation-workshop/
LOCATION:Online
CATEGORIES:Learning Skool,Virtual Village
END:VEVENT
BEGIN:VEVENT
DTSTART;TZID=Europe/London:20210117T140000
DTEND;TZID=Europe/London:20210117T150000
DTSTAMP:20260426T040803
CREATED:20210103T183330Z
LAST-MODIFIED:20210110T220651Z
UID:2556-1610892000-1610895600@animalrebellion.org
SUMMARY:Arts Space
DESCRIPTION:Come along\, chill out and get creative with the Animal Rebellions Arts Team
URL:https://animalrebellion.org/event/arts-space-2/
LOCATION:Online
CATEGORIES:Virtual Village,Wellbeing cafe
END:VEVENT
BEGIN:VEVENT
DTSTART;TZID=Europe/London:20210115T190000
DTEND;TZID=Europe/London:20210115T200000
DTSTAMP:20260426T040803
CREATED:20210103T182813Z
LAST-MODIFIED:20210110T220627Z
UID:2554-1610737200-1610740800@animalrebellion.org
SUMMARY:Stream of Solidarity: Jamie Arbib Interview and Q&A
DESCRIPTION:Jamie Arbib is the co-Founder of RethinkX\, a not-for-profit think tank that analyses the non-linear nature of technology disruption across the economy and its broad implications across society. Its aim is to inspire a global conversation about the threats and opportunities of technology-driven disruption and to focus attention on choices that can help lead to a more equitable\, healthy\, resilient\, and stable society. \nAccording to their research\, we are on the cusp of the deepest\, fastest\, most consequential disruption in food and agricultural production since the first domestication of plants and animals ten thousand years ago. \nIn this interview\, we will delve into these fascinating predictions and their implications on the animal farming industry\, the wider economy and society as a whole. \nThis discussion will be live streamed via Facebook Live and Zoom. Hope to see you there!
URL:https://animalrebellion.org/event/stream-of-solidarity-2/
LOCATION:Online
CATEGORIES:Solidarity Stage,Virtual Village
END:VEVENT
BEGIN:VEVENT
DTSTART;TZID=Europe/London:20210113T180000
DTEND;TZID=Europe/London:20210113T190000
DTSTAMP:20260426T040803
CREATED:20210103T182529Z
LAST-MODIFIED:20210110T220601Z
UID:2552-1610560800-1610564400@animalrebellion.org
SUMMARY:Intro to Strategic Messaging
DESCRIPTION:In a world with loads of competing narratives\, messaging is everywhere. Social change organisations\, corporations\, the media and many other institutions use strategic messaging by considering\nthings like context and framing in order to win people over. By formulating our words and the sentences we use\, our messaging will travel further\, hit harder and ultimately win the hearts and\nminds of the people – shifting the public narrative for a better world\, and a brighter future.
URL:https://animalrebellion.org/event/messaging-training-series-2-intro-to-strategic-messaging/
LOCATION:Online
CATEGORIES:Learning Skool,Virtual Village
END:VEVENT
BEGIN:VEVENT
DTSTART;TZID=Europe/London:20210112T190000
DTEND;TZID=Europe/London:20210112T203000
DTSTAMP:20260426T040803
CREATED:20210103T181959Z
LAST-MODIFIED:20210110T220349Z
UID:2546-1610478000-1610483400@animalrebellion.org
SUMMARY:People's Assembly
DESCRIPTION:People’s Assemblies are a way for a group of people to discuss issues or make decisions collectively\, where all voices are heard and valued equally and no one person or group are able to dominate the process.\nPeople’s Assemblies play a vital role in our decision making process\, and even more so during the rebellion where we will need to hold impromptu assemblies depending on the situations we encounter.
URL:https://animalrebellion.org/event/peoples-assembly-2/
LOCATION:Online
CATEGORIES:Solidarity Stage,Virtual Village
END:VEVENT
BEGIN:VEVENT
DTSTART;TZID=Europe/London:20210108T190000
DTEND;TZID=Europe/London:20210108T200000
DTSTAMP:20260426T040803
CREATED:20210103T190432Z
LAST-MODIFIED:20210109T140840Z
UID:2595-1610132400-1610136000@animalrebellion.org
SUMMARY:Arts Space
DESCRIPTION:Come along\, chill out and get creative with the Animal Rebellions Arts Team
URL:https://animalrebellion.org/event/arts-space-5/
LOCATION:https://us02web.zoom.us/j/81801807919?pwd=Sm9nMU1KK1pYL2YyV2ZqUnVicXg3QT09
CATEGORIES:Virtual Village,Wellbeing cafe
END:VEVENT
BEGIN:VEVENT
DTSTART;TZID=Europe/London:20210107T180000
DTEND;TZID=Europe/London:20210107T190000
DTSTAMP:20260426T040803
CREATED:20210107T180046Z
LAST-MODIFIED:20210107T134755Z
UID:2539-1610042400-1610046000@animalrebellion.org
SUMMARY:Plans for Animal Rebellion’s Messaging in 2021
DESCRIPTION:From November-December Animal Rebellion ran a 4 week messaging workshop which assessed and analysed our messaging and identified pathways for the future. In this presentation from the Animal Rebellion messaging team we’ll go over what we learnt\, some key insights and areas for future development as well as plans for Animal Rebellions messaging team in 2021. \nIf you couldn’t make the workshops or are interested in getting insights into Animal Rebellion’s messaging process and share your ideas come along on Thursday 7th January at 6pm for an informative exploration of what we learnt and where we’re going
URL:https://animalrebellion.org/event/basic-messaging-training-series-1-plans-for-animal-rebellions-messaging-in-2021/
LOCATION:https://us02web.zoom.us/j/81078498155?pwd=TkZOSzZleDg3OXN1QkZYZElWYjFRZz09
CATEGORIES:Learning Skool,Virtual Village
END:VEVENT
BEGIN:VEVENT
DTSTART;TZID=Europe/London:20210104T180000
DTEND;TZID=Europe/London:20210104T190000
DTSTAMP:20260426T040803
CREATED:20210103T190246Z
LAST-MODIFIED:20210103T190246Z
UID:2591-1609783200-1609786800@animalrebellion.org
SUMMARY:Messaging Training Series: 5. Framing 101
DESCRIPTION:
URL:https://animalrebellion.org/event/messaging-training-series-5-framing-101/
CATEGORIES:Learning Skool,Virtual Village
END:VEVENT
END:VCALENDAR