BEGIN:VCALENDAR
VERSION:2.0
PRODID:-//Animal Rebellion - ECPv6.4.0.1//NONSGML v1.0//EN
CALSCALE:GREGORIAN
METHOD:PUBLISH
X-ORIGINAL-URL:https://animalrebellion.org
X-WR-CALDESC:Events for Animal Rebellion
REFRESH-INTERVAL;VALUE=DURATION:PT1H
X-Robots-Tag:noindex
X-PUBLISHED-TTL:PT1H
BEGIN:VTIMEZONE
TZID:Europe/London
BEGIN:DAYLIGHT
TZOFFSETFROM:+0000
TZOFFSETTO:+0100
TZNAME:BST
DTSTART:20210328T010000
END:DAYLIGHT
BEGIN:STANDARD
TZOFFSETFROM:+0100
TZOFFSETTO:+0000
TZNAME:GMT
DTSTART:20211031T010000
END:STANDARD
END:VTIMEZONE
BEGIN:VEVENT
DTSTART;TZID=Europe/London:20210420T180000
DTEND;TZID=Europe/London:20210420T200000
DTSTAMP:20260424T225625
CREATED:20210411T205147Z
LAST-MODIFIED:20210414T200134Z
UID:3503-1618941600-1618948800@animalrebellion.org
SUMMARY:Know Your Rights Training
DESCRIPTION:Know Your Rights is a key training for all rebels\, it covers your basic legal rights\, common laws and police tactics used at protests. As well as your rights\, it explains what to expect if you are arrested and in police custody\, how to mitigate for risk\, and importantly the greater risk faced by marginalised rebels\, and how we can build solidarity within the protest movement.\nThis is a remote training\, hosted over zoom
URL:https://animalrebellion.org/event/know-your-rights-training-5/
LOCATION:Online
CATEGORIES:XR
END:VEVENT
BEGIN:VEVENT
DTSTART;TZID=Europe/London:20210421T190000
DTEND;TZID=Europe/London:20210421T220000
DTSTAMP:20260424T225625
CREATED:20210411T205259Z
LAST-MODIFIED:20210414T193313Z
UID:3505-1619031600-1619042400@animalrebellion.org
SUMMARY:Oppression\, movement building and our relationships as activists
DESCRIPTION:Oppression\, movement building and our relationships as activists.\nNote: We’ve experienced large numbers of people registering for this workshop and not turning up.\nThis prevents others from registering and attending because the workshop is sold out.\nSo we ask you to only book if you can attend and cancel your ticket in good time if you find you can’t make it.\n—–\nWe are members of XR looking at how movements can be divided when oppression goes unaddressed\, offering practical tools to heal these divisions which affect our relationships as activists.\nThis workshop will address the importance of understanding the structural nature of oppressions (such as racism\, sexism\, classism\, ableism\, the oppression of young people\, …)\, as well as doing personal healing work – both of which are necessary if we are to work together effectively in a united movement.\nPlease arrive from 15 minutes before the start time for a prompt start.\nWhen you register a Zoom link will be sent in your order confirmation email. Please check your junk mail folder in case your email ends up in there.\nPracticalities\nThis workshop is interactive so it’s useful if each participant can join the call on a separate device.\nBecause we will be breaking out into smaller groups for timed ‘listening exchanges’ it will be very helpful if you can bring a timer to the workshop\, e.g. you can use the timer app on a mobile phone (use a spare mobile if you are using your mobile for the Zoom call).\nWhen you’re in the Zoom meeting it is useful to choose “Gallery View” so that you can see everyone’s lovely faces (this doesn’t work on mobile phones).\nAccessibility\n* This workshop is in English. We are looking to train people who can facilitate in other languages.\n* We do not have sign language interpretation but you’re welcome to bring your own – please can you let us know by email ahead of time so we can help them prepare before the workshop (ombraworkshop@gmail.com).\n* If you have any accessibility needs please contact us on ombraworkshop@gmail.com to tell us about them and we will try to accommodate you
URL:https://animalrebellion.org/event/oppression-movement-building-and-our-relationships-as-activists/
LOCATION:Online
CATEGORIES:XR
END:VEVENT
BEGIN:VEVENT
DTSTART;VALUE=DATE:20210424
DTEND;VALUE=DATE:20210425
DTSTAMP:20260424T225625
CREATED:20210411T205443Z
LAST-MODIFIED:20210414T201611Z
UID:3507-1619222400-1619308799@animalrebellion.org
SUMMARY:This Land is Our Land
DESCRIPTION:On 24th April 2021 every citizen of the UK is invited to mark the Kinder Scout trespass wherever and however they can. Together we will remember our radical roots and reclaim our most fundamental rights: to walk\, to wander\, to live.\nAnd soon\, when covid allows\, we will gather together for a monumental & inspirational Mass Trespass\, the likes of which our Kinder Scout ancestors would be proud…\n✊🏿 ✊🏼 ✊🏽 ✊🏾 ✊🏻\nIn 1932\, five men were jailed for their role in organising the Kinder Scout trespass of April 24th. Their crime? Walking on a hill where they were not supposed to.\nThis April 24th we will commemorate their actions with a trespass of our own\, reconnecting with each other and exploring how the land beneath our feet affects every part of our lives.\nIn defiance of unjust\, oppressive laws\, the Kinder Scout trespass grew from the actions of 500 working men and women to a protest movement of over 10\,000 people in just three weeks. These early pioneers sacrificed and fought for our right to roam these beautiful Isles. Their aims are still just as relevant.\nToday\, taxpayers give £3bn a year to landowners and yet…\n🚧🚧🚧\n…we are denied access to 92% of the land in England. \nMuch of that land is being criminally misused:\n– Moors and peatland burned for the sake of grouse shooting\n🔥🔥🔥🔥🔥🔥🔥🔥🔥🔥🔥 \n– Deforestation for manicured estates and golf courses\n🌳🪓🌳🪚🌳🪓🌳🪚🌳🪓🌳🪚 \n– and Extraction which destroys natural landscapes to name a few.\n⛏🗾⛏🏭⛏🗾⛏🏭⛏🗾⛏🏭 \nDuring a climate and ecological emergency\, against a backdrop of increasing inequality and division\, this is a conversation that cannot wait.\n🚧🚧🚧🚧🚧🚧🚧🚧🚧🚧🚧\nGET INVOLVED\nOn 24th April…\nGo for a walk – on your own\, or with your Local Group or support bubble – and…\n✅ Peacefully climb over NO TRESPASSING or PRIVATE PROPERTY signs\n✅ Attach your own message to NO TRESPASSING signs\n✅ Explore creative\, peaceful & covid-safe civil disobedience related to the land\n✅ Bring the conversation home\, speak to your friends & neighbours about land rights and land misuse\n✅ Whatever you do\, post photos and join the social media storm using the hashtags #WhoOwnsBritain #EveryoneWelcomeHere #RightToRoam\n– Join the telegram group to share ideas & inspiration: t.me/trespassuk\n🤓 Get inspiration and guidance here 👇🏼\nhttps://docs.google.com/…/2PACX…/pub\nNOTES\n⚠️ BE MINDFUL of wildlife and DO NOT DISTURB farm animals or crops\n⚠️ Read up on the potential legal implications: https://docs.google.com/…/1KIb_c_GMA96cA7SEd…/edit\n⚠️ ⚠️ Ensure you take precautions to protest safely during the pandemic
URL:https://animalrebellion.org/event/this-land-is-our-land/
LOCATION:Online
CATEGORIES:XR
END:VEVENT
BEGIN:VEVENT
DTSTART;TZID=Europe/London:20210424T173000
DTEND;TZID=Europe/London:20210424T184500
DTSTAMP:20260424T225625
CREATED:20210411T205545Z
LAST-MODIFIED:20210414T200425Z
UID:3509-1619285400-1619289900@animalrebellion.org
SUMMARY:Witnessing Police Behaviour Training
DESCRIPTION:This training will teach you valuable skills\, in witnessing arrests and police behaviour. It will empower you to take responsibility for the safety of other rebels around you at a protest\, and particularly focusses on the greater risk faced by marginalised rebels.\nThis is NOT legal observer training\, and witnessing arrests is not a role\, but a skill.\nThis is a remote training hosted on zoom.
URL:https://animalrebellion.org/event/witnessing-police-behaviour-training-3/
LOCATION:Online
CATEGORIES:XR
END:VEVENT
BEGIN:VEVENT
DTSTART;TZID=Europe/London:20210427T173000
DTEND;TZID=Europe/London:20210427T190000
DTSTAMP:20260424T225625
CREATED:20210411T205801Z
LAST-MODIFIED:20210414T201822Z
UID:3513-1619544600-1619550000@animalrebellion.org
SUMMARY:Bundesweites Online Onboarding
DESCRIPTION:Would you like to get to know Animal Rebellion better\, lear about the demands\, principles & values ​​as well as forms of action and / or actively join the rebellion ?\nJoin our online onboarding (German-speaking)\nGet to know other rebels and find local groups nearby!
URL:https://animalrebellion.org/event/bundesweites-online-onboarding-2/
LOCATION:Online
CATEGORIES:XR
END:VEVENT
END:VCALENDAR