BEGIN:VCALENDAR
VERSION:2.0
PRODID:-//Animal Rebellion - ECPv6.4.0.1//NONSGML v1.0//EN
CALSCALE:GREGORIAN
METHOD:PUBLISH
X-ORIGINAL-URL:https://animalrebellion.org
X-WR-CALDESC:Events for Animal Rebellion
REFRESH-INTERVAL;VALUE=DURATION:PT1H
X-Robots-Tag:noindex
X-PUBLISHED-TTL:PT1H
BEGIN:VTIMEZONE
TZID:Europe/London
BEGIN:DAYLIGHT
TZOFFSETFROM:+0000
TZOFFSETTO:+0100
TZNAME:BST
DTSTART:20220327T010000
END:DAYLIGHT
BEGIN:STANDARD
TZOFFSETFROM:+0100
TZOFFSETTO:+0000
TZNAME:GMT
DTSTART:20221030T010000
END:STANDARD
END:VTIMEZONE
BEGIN:VEVENT
DTSTART;TZID=Europe/London:20220908T190000
DTEND;TZID=Europe/London:20220908T200000
DTSTAMP:20260422T235847
CREATED:20220903T163337Z
LAST-MODIFIED:20220905T133457Z
UID:7485-1662663600-1662667200@animalrebellion.org
SUMMARY:Take Action with Animal Rebellion!
DESCRIPTION:Curious about taking action with Animal Rebellion?Come and join one of our online talks to find out more about Animal Rebellion actions\, the Love & Resistance event on the 8th October\, and how you can get involved in the movement!  \n\n\n\nHappening at 7PM on:Monday 5th SeptemberTuesday 6th SeptemberThursday 8th SeptemberSaturday 10th September \n\n\n\nThe climate crisis is here\, it’s happening\, and we need to act now. We know the key solution is a transition to a plant-based food system – we have no choice but to do everything in our power to make this happen.  \n\n\n\nFor climate justice and animal justice\, let’s come together\, use our collective power and change everything. \n\n\n\n \n\n\n\nhttps://us06web.zoom.us/meeting/register/tZwsf-qgqT4vGNfmoFbooOfhnFfX32xSAU4O
URL:https://animalrebellion.org/event/take-action-with-animal-rebellion-copy-copy-copy-copy/
ATTACH;FMTTYPE=image/jpeg:https://animalrebellion.org/wp-content/uploads/2022/09/talk-for-the-week.jpeg
END:VEVENT
BEGIN:VEVENT
DTSTART;TZID=Europe/London:20220910T190000
DTEND;TZID=Europe/London:20220910T200000
DTSTAMP:20260422T235847
CREATED:20220903T163357Z
LAST-MODIFIED:20220905T133447Z
UID:7486-1662836400-1662840000@animalrebellion.org
SUMMARY:Take Action with Animal Rebellion!
DESCRIPTION:Curious about taking action with Animal Rebellion?Come and join one of our online talks to find out more about Animal Rebellion actions\, the Love & Resistance event on the 8th October\, and how you can get involved in the movement!  \n\n\n\nHappening at 7PM on:Monday 5th SeptemberTuesday 6th SeptemberThursday 8th SeptemberSaturday 10th September \n\n\n\nThe climate crisis is here\, it’s happening\, and we need to act now. We know the key solution is a transition to a plant-based food system – we have no choice but to do everything in our power to make this happen.  \n\n\n\nFor climate justice and animal justice\, let’s come together\, use our collective power and change everything. \n\n\n\n \n\n\n\nhttps://us06web.zoom.us/meeting/register/tZwsf-qgqT4vGNfmoFbooOfhnFfX32xSAU4O
URL:https://animalrebellion.org/event/take-action-with-animal-rebellion-copy-copy-copy-copy-copy/
ATTACH;FMTTYPE=image/jpeg:https://animalrebellion.org/wp-content/uploads/2022/09/talk-for-the-week.jpeg
END:VEVENT
BEGIN:VEVENT
DTSTART;TZID=Europe/London:20221008T110000
DTEND;TZID=Europe/London:20221008T110000
DTSTAMP:20260422T235847
CREATED:20220903T190227Z
LAST-MODIFIED:20220903T190228Z
UID:7497-1665226800-1665226800@animalrebellion.org
SUMMARY:LOVE & RESISTANCE CALLING ALL VEGANS: OCCUPY LONDON
DESCRIPTION:This is historic. Our movement is growing in power and numbers. We’ve disrupted the supply of dairy. We’ve made headlines around the world. We’ve changed the national conversation.  \n\n\n\nNow it’s time to take our joyful plant-based rebellion to the Westminster government.  \n\n\n\nJoin us at Green Park Station 12noon on October 8th for a day of plant-based rebellion as we occupy the streets of central London and unleash playful disruption across the city. Arrestable and non-arrestable roles needed.  \n\n\n\nKey Information \n\n\n\nWhen? Begin on October 8th for 24 hours  \n\n\n\nWhere? Meet in the park by Green Park tube station.  \n\n\n\nWho? You\, your friends\, your family\, your neighbours and thousands of rebels from across the Animal Rebellion movement and allied movements for our biggest day of action yet.  \n\n\n\nWhat? A peaceful nonviolent day of rebellion starting with mass participation events\, games\, marches\, speeches and food that moves into a rewilding themed march of disruptive actions and then an occupation of the roads of around Trafalgar Square until midnight resulting in hundreds of arrests.  \n\n\n\nWhy? To win our demands from the government we will create an irresistible vision of a joyful plant-based future in the streets of London and create unignorable disruption. Our two demands are: (1) That the government help farmers and fishing communities to transition to a plant-based food system and (2) That the government rewild the land this spares to draw down carbon and reverse the extinction crisis.  \n\n\n\nHow? By coming out in our biggest numbers yet and then filling the cells of London with rebels calling for a plant-based future\, we will raise our call for a plant-based future to volumes never heard before. By bringing together thousands of people of all backgrounds and groups to join together under a plant-based banner we will build bridges\, friendships and networks that will strengthen our movement as it grows ever greater.  \n\n\n\n***Prepared to get arrested for the cause? Sign up for an Non Violent Direct Action Training here https://tinyurl.com/2v742jt9 *** \n\n\n\nOrder of Play \n\n\n\n11am – 1pm: GATHERING: A fun gathering in Green Park with speeches\, workshops\, discussion groups\, games and food sharing.  \n\n\n\n1pm-3pm: MARCHING: We’ll split off into 5 different marching groups led by a different colour flag to march disruptively and playfully around the wealthiest part of central London\, occupying major shops at random\, with dancing and games along the way with rebels prepared to get arrested taking disruptive action as we go. The five marching groups will be themed by different types of rewilded habitat: Forest\, Ocean\, River\, Grasslands\, Peatbogs… yes you heard right – peat bogs. \n\n\n\n3pm until 12noon 9th October (or until everyone is arrested): OCCUPYING: Each of the five marching groups will occupy one of the 5 roads leading into Trafalgar Square\, bringing central London to a standstill in the name of a plant-based future. Those taking action to the point of arrest will stay here until midnight\, or until arrested.  \n\n\n\nAbout arrest \n\n\n\nAt Trafalgar Square we welcome people to hold the roads as long as possible and for as many people as possible to block the road to the point of arrest. For those who are not able to be arrested\, we expect the police will provide clear warning before arresting people\, meaning that you can choose to step out of the road and avoid arrest if you so choose. \n\n\n\nThis action will be taking place amidst Just Stop Oil’s Occupy Westminster\, and XR’s Rebellion – thousands of people will be taking action to the point of arrest in London this October demanding Government stop all new fossil fuel developments. Therefore\, any arrest here will not only be a bold stand for a plant-based future\, but it will also support the broader campaign to kickstart meaningful government action on climate. \n\n\n\n***Prepared to get arrested for the cause? Sign up for an Non Violent Direct Action Training here https://tinyurl.com/2v742jt9 ***
URL:https://animalrebellion.org/event/love-resistance-calling-all-vegans-occupy-london/
ATTACH;FMTTYPE=image/jpeg:https://animalrebellion.org/wp-content/uploads/2022/09/8th-of-October-2.jpeg
END:VEVENT
BEGIN:VEVENT
DTSTART;TZID=Europe/London:20221014T190000
DTEND;TZID=Europe/London:20221014T190000
DTSTAMP:20260422T235847
CREATED:20220921T141401Z
LAST-MODIFIED:20220921T141402Z
UID:7557-1665774000-1665774000@animalrebellion.org
SUMMARY:Stream of Solidarity: Vanessa Hudson
DESCRIPTION:People will often criticise saying “why don’t you have your own political party where you can put the things you want to the public to vote on?” We do. \n\n\n\nVanessa heads has been the leader of the Animal Welfare Party since 2010 and has over seen 13 party election campaigns across the UK. She has been keen to work with sister parties in the international animal politics movement\, playing a key role in the development of the first pan-European election campaign by animal parties ahead of the 2014 EU elections\, the ‘EuroAnimal7’– an idea repeated in 2019 with the ‘Animal Politics EU’ list of 11 animal parties. \n\n\n\nBut what is involved? What changes have they been able to make? How can we use this resource to help push our cause for a plant based future? \n\n\n\nAfter disruption comes conversation. Come see how the fight for social justice is being fought by ways of the forging of the laws that govern the land and what you can do to take part on this front. \n\n\n\n \n\n\n\nhttps://us06web.zoom.us/j/86871381967?pwd=QmwxUVZZSjdmaXA4WlJodEx3MjBKdz09
URL:https://animalrebellion.org/event/stream-of-solidarity-vanessa-hudson/
ATTACH;FMTTYPE=image/jpeg:https://animalrebellion.org/wp-content/uploads/2022/09/photo_2022-09-21-14.29.54.jpeg
END:VEVENT
BEGIN:VEVENT
DTSTART;TZID=Europe/London:20221108T190000
DTEND;TZID=Europe/London:20221108T200000
DTSTAMP:20260422T235847
CREATED:20220825T095147Z
LAST-MODIFIED:20220921T140502Z
UID:7456-1667934000-1667937600@animalrebellion.org
SUMMARY:Stream of Solidarity: Martin Whybrow
DESCRIPTION:One of the things you may hear from people criticise protesters is “why don’t you work hard and change the system form the inside?” Martin tried to do just that. \n\n\n\nAs an RSPCA branch trustee for four years before resigning\, Martin was one of a number of people who tried to remind one of the countries oldest charitable organisations of the principles it was founded on. \n\n\n\nHear about Martin’s journey\, not only with the RSPCA\, but with other organisations who we are counting on to foster in a sustainable future.  \n\n\n\n \n\n\n\nhttps://us06web.zoom.us/meeting/register/tZIkcOigrzIvGdDUTDMwB8rxoUT-cCza6GfL
URL:https://animalrebellion.org/event/stream-of-solidarity-martin-whybrow/
ATTACH;FMTTYPE=image/jpeg:https://animalrebellion.org/wp-content/uploads/2022/08/photo_2022-08-23-14.25.22.jpeg
END:VEVENT
END:VCALENDAR