BEGIN:VCALENDAR
VERSION:2.0
PRODID:-//Animal Rebellion - ECPv6.4.0.1//NONSGML v1.0//EN
CALSCALE:GREGORIAN
METHOD:PUBLISH
X-WR-CALNAME:Animal Rebellion
X-ORIGINAL-URL:https://animalrebellion.org
X-WR-CALDESC:Events for Animal Rebellion
REFRESH-INTERVAL;VALUE=DURATION:PT1H
X-Robots-Tag:noindex
X-PUBLISHED-TTL:PT1H
BEGIN:VTIMEZONE
TZID:Europe/London
BEGIN:DAYLIGHT
TZOFFSETFROM:+0000
TZOFFSETTO:+0100
TZNAME:BST
DTSTART:20200329T010000
END:DAYLIGHT
BEGIN:STANDARD
TZOFFSETFROM:+0100
TZOFFSETTO:+0000
TZNAME:GMT
DTSTART:20201025T010000
END:STANDARD
END:VTIMEZONE
BEGIN:VEVENT
DTSTART;TZID=Europe/London:20201102T180000
DTEND;TZID=Europe/London:20201102T200000
DTSTAMP:20260423T230233
CREATED:20201017T041152Z
LAST-MODIFIED:20201017T041152Z
UID:1664-1604340000-1604347200@animalrebellion.org
SUMMARY:Basic DNA
DESCRIPTION:Essential for all Animal Rebels to deepen their understanding of who Animal Rebellion is. A crash course into how we think social change happens and how we operate. This is only a taste for the individual sections! Be sure to also attend our in depth trainings on our story\, structure\, strategy and culture. \nRegister here:  https://us02web.zoom.us/meeting/register/tZUlc-uoqjsuG9P4-bJ9_nEkien6U8PdnQk_
URL:https://animalrebellion.org/event/basic-dna/
LOCATION:https://us02web.zoom.us/meeting/register/tZUlc-uoqjsuG9P4-bJ9_nEkien6U8PdnQk_
END:VEVENT
BEGIN:VEVENT
DTSTART;TZID=Europe/London:20201104T180000
DTEND;TZID=Europe/London:20201104T190000
DTSTAMP:20260423T230233
CREATED:20201018T170246Z
LAST-MODIFIED:20201018T170246Z
UID:1677-1604512800-1604516400@animalrebellion.org
SUMMARY:Introduction to Animal Rebellion
DESCRIPTION:Want to know more about Animal Rebellion?⁠ \n⁠We have an introduction session where you can learn more about the movement and how you can get involved. We’ll chat about our principles & values\, our demands\, and a little taster of why we do things the way we do and how you can take part. \nJoin us Wednesday evenings from 6-7pm. \nRegister Here:  https://us02web.zoom.us/meeting/register/tZAkdO2pqz4iGNFhun9lVNNgtrnNcSzou29c
URL:https://animalrebellion.org/event/introduction-to-animal-rebellion-4/
LOCATION:https://us02web.zoom.us/meeting/register/tZAkdO2pqz4iGNFhun9lVNNgtrnNcSzou29c
END:VEVENT
BEGIN:VEVENT
DTSTART;VALUE=DATE:20201105
DTEND;VALUE=DATE:20201106
DTSTAMP:20260423T230233
CREATED:20201103T233626Z
LAST-MODIFIED:20201103T233634Z
UID:1727-1604534400-1604620799@animalrebellion.org
SUMMARY:API Event
DESCRIPTION:This is an event for the API. Only relevant to tech rebels.
URL:https://animalrebellion.org/event/api-event/
LOCATION:UK Prime Minister\, 10 Downing Street\, London
END:VEVENT
BEGIN:VEVENT
DTSTART;TZID=Europe/London:20201105T180000
DTEND;TZID=Europe/London:20201105T200000
DTSTAMP:20260423T230233
CREATED:20201017T041257Z
LAST-MODIFIED:20201017T041257Z
UID:1667-1604599200-1604606400@animalrebellion.org
SUMMARY:DNA Structure
DESCRIPTION:This online workshop is an opportunity to explore Animal Rebellion UK’s structure of coordination and learn about how we make decisions. \nWhat are the key principles\, ways of working and challenges of our Self-Organising-System and how is it expanding as we continually grow? Discuss leadership\, autonomy and the fundamental building blocks of trust and communication. \nRegister here:  https://us02web.zoom.us/meeting/register/tZMsfuiprTktGtHEcOmmOYKXQywQvY34f7ED
URL:https://animalrebellion.org/event/dna-structure/
LOCATION:https://us02web.zoom.us/meeting/register/tZMsfuiprTktGtHEcOmmOYKXQywQvY34f7ED
END:VEVENT
BEGIN:VEVENT
DTSTART;TZID=Europe/London:20201111T180000
DTEND;TZID=Europe/London:20201111T190000
DTSTAMP:20260423T230233
CREATED:20201018T170402Z
LAST-MODIFIED:20201018T170402Z
UID:1680-1605117600-1605121200@animalrebellion.org
SUMMARY:Introduction to Animal Rebellion
DESCRIPTION:Want to know more about Animal Rebellion?⁠ \n⁠We have an introduction session where you can learn more about the movement and how you can get involved. We’ll chat about our principles & values\, our demands\, and a little taster of why we do things the way we do and how you can take part. \nJoin us Wednesday evenings from 6-7pm. \nRegister Here:  https://us02web.zoom.us/meeting/register/tZAkdO2pqz4iGNFhun9lVNNgtrnNcSzou29c
URL:https://animalrebellion.org/event/introduction-to-animal-rebellion-5/
LOCATION:https://us02web.zoom.us/meeting/register/tZAkdO2pqz4iGNFhun9lVNNgtrnNcSzou29c
END:VEVENT
BEGIN:VEVENT
DTSTART;TZID=Europe/London:20201116T180000
DTEND;TZID=Europe/London:20201116T200000
DTSTAMP:20260423T230233
CREATED:20201026T164953Z
LAST-MODIFIED:20201026T165632Z
UID:1706-1605549600-1605556800@animalrebellion.org
SUMMARY:DNA Culture
DESCRIPTION:Culture underpins how we relate to one another both within our movement and wider society. Come explore how we can build an inclusive\, resilient and empowering culture together at Animal Rebellion. \nRegister here: https://us02web.zoom.us/meeting/register/tZUrc-GtqT0jG9dUX8y5OcETO0NReOR9Ve-w
URL:https://animalrebellion.org/event/dna-culture-2/
LOCATION:https://us02web.zoom.us/meeting/register/tZUrc-GtqT0jG9dUX8y5OcETO0NReOR9Ve-w
END:VEVENT
BEGIN:VEVENT
DTSTART;TZID=Europe/London:20201118T180000
DTEND;TZID=Europe/London:20201118T200000
DTSTAMP:20260423T230234
CREATED:20201026T165239Z
LAST-MODIFIED:20201026T165606Z
UID:1709-1605722400-1605729600@animalrebellion.org
SUMMARY:Basic DNA
DESCRIPTION:Essential for all Animal Rebels to deepen their understanding of who Animal Rebellion is. A crash course into how we think social change happens and how we operate. This is only a taste for the individual sections! Be sure to also attend our in depth trainings on our story\, structure\, strategy and culture. \nRegister here:  https://us02web.zoom.us/meeting/register/tZcsdOivrzgrHdH_GFTr8j1w7VkwkmJH_0lI
URL:https://animalrebellion.org/event/basic-dna-2/
LOCATION:https://us02web.zoom.us/meeting/register/tZcsdOivrzgrHdH_GFTr8j1w7VkwkmJH_0lI
END:VEVENT
BEGIN:VEVENT
DTSTART;TZID=Europe/London:20201118T180000
DTEND;TZID=Europe/London:20201118T200000
DTSTAMP:20260423T230234
CREATED:20201118T005327Z
LAST-MODIFIED:20201118T005327Z
UID:1770-1605722400-1605729600@animalrebellion.org
SUMMARY:DNA: Basic
DESCRIPTION:
URL:https://animalrebellion.org/event/dna-basic/
LOCATION:https://fb.me/e/1CLeDAj7C
END:VEVENT
BEGIN:VEVENT
DTSTART;TZID=Europe/London:20201118T180000
DTEND;TZID=Europe/London:20201118T200000
DTSTAMP:20260423T230234
CREATED:20201119T060045Z
LAST-MODIFIED:20201118T011503Z
UID:1774-1605722400-1605729600@animalrebellion.org
SUMMARY:DNA: Story
DESCRIPTION:
URL:https://animalrebellion.org/event/dna-story-3/
END:VEVENT
BEGIN:VEVENT
DTSTART;TZID=Europe/London:20201119T180000
DTEND;TZID=Europe/London:20201119T200000
DTSTAMP:20260423T230234
CREATED:20201026T165357Z
LAST-MODIFIED:20201026T165512Z
UID:1712-1605808800-1605816000@animalrebellion.org
SUMMARY:DNA Story
DESCRIPTION:This online workshop is an opportunity to explore our personal and shared stories in Animal Rebellion. How do we frame our story as a movement? Why do we use certain words and concepts\, yet avoid others? How does it reach out to people? What do we mean by our ‘shared vision of change’? \nRegister here: https://us02web.zoom.us/meeting/register/tZMkd–vqjsrHNDX9GFYmZNdzSt42asytLyp
URL:https://animalrebellion.org/event/dna-story-2/
LOCATION:https://us02web.zoom.us/meeting/register/tZMkd–vqjsrHNDX9GFYmZNdzSt42asytLyp
END:VEVENT
BEGIN:VEVENT
DTSTART;TZID=Europe/London:20201123T180000
DTEND;TZID=Europe/London:20201123T200000
DTSTAMP:20260423T230234
CREATED:20201026T165800Z
LAST-MODIFIED:20201026T165800Z
UID:1715-1606154400-1606161600@animalrebellion.org
SUMMARY:DNA Strategy
DESCRIPTION:This online workshop is all about our core purpose as a movement\, what our goals are and what tools we use to get there. \nLearn about the pillars of support\, why we aim our actions towards the Government\, how we shift hearts and minds of the public and the key principles of Civil Disobedience. There is an opportunity to explore these concepts together and discuss our 2020 strategy. \nRegister here: https://us02web.zoom.us/meeting/register/tZErceuopzIjGdc5VGmkbDr0fx0eUHpMPwJ3
URL:https://animalrebellion.org/event/dna-strategy-2/
END:VEVENT
BEGIN:VEVENT
DTSTART;TZID=Europe/London:20201125T060000
DTEND;TZID=Europe/London:20201125T190000
DTSTAMP:20260423T230234
CREATED:20201118T012236Z
LAST-MODIFIED:20201118T012628Z
UID:1781-1606284000-1606330800@animalrebellion.org
SUMMARY:Introduction To Animal Rebellion
DESCRIPTION:
URL:https://animalrebellion.org/event/introduction-to-animal-rebellion-6/
END:VEVENT
BEGIN:VEVENT
DTSTART;TZID=Europe/London:20201125T173000
DTEND;TZID=Europe/London:20201125T200000
DTSTAMP:20260423T230234
CREATED:20201118T012007Z
LAST-MODIFIED:20201118T012758Z
UID:1779-1606325400-1606334400@animalrebellion.org
SUMMARY:Connecting Communities Workshop
DESCRIPTION:
URL:https://animalrebellion.org/event/connecting-communities-workshop/
END:VEVENT
BEGIN:VEVENT
DTSTART;TZID=Europe/London:20201125T180000
DTEND;TZID=Europe/London:20201125T190000
DTSTAMP:20260423T230234
CREATED:20201018T170819Z
LAST-MODIFIED:20201018T170819Z
UID:1685-1606327200-1606330800@animalrebellion.org
SUMMARY:Introduction to Animal Rebellion
DESCRIPTION:Want to know more about Animal Rebellion?⁠ \n⁠We have an introduction session where you can learn more about the movement and how you can get involved. We’ll chat about our principles & values\, our demands\, and a little taster of why we do things the way we do and how you can take part. \nJoin us Wednesday evenings from 6-7pm. \nRegister Here:  https://us02web.zoom.us/meeting/register/tZAkdO2pqz4iGNFhun9lVNNgtrnNcSzou29c
URL:https://animalrebellion.org/event/introduction-to-animal-rebellion-7/
LOCATION:https://us02web.zoom.us/meeting/register/tZAkdO2pqz4iGNFhun9lVNNgtrnNcSzou29c
END:VEVENT
BEGIN:VEVENT
DTSTART;TZID=Europe/London:20201126T060000
DTEND;TZID=Europe/London:20201126T200000
DTSTAMP:20260423T230234
CREATED:20201118T012324Z
LAST-MODIFIED:20201118T012725Z
UID:1783-1606370400-1606420800@animalrebellion.org
SUMMARY:DNA: Structure
DESCRIPTION:
URL:https://animalrebellion.org/event/dna-structure-3/
END:VEVENT
BEGIN:VEVENT
DTSTART;TZID=Europe/London:20201126T180000
DTEND;TZID=Europe/London:20201126T200000
DTSTAMP:20260423T230234
CREATED:20201026T165941Z
LAST-MODIFIED:20201026T165941Z
UID:1717-1606413600-1606420800@animalrebellion.org
SUMMARY:DNA Structure
DESCRIPTION:This online workshop is an opportunity to explore Animal Rebellion UK’s structure of coordination and learn about how we make decisions. \nWhat are the key principles\, ways of working and challenges of our Self-Organising-System and how is it expanding as we continually grow? Discuss leadership\, autonomy and the fundamental building blocks of trust and communication. \nRegister here: https://us02web.zoom.us/meeting/register/tZIvdeyhqjsqG9ds6FgOpnNcwG2ACHF4_jGg
URL:https://animalrebellion.org/event/dna-structure-2/
LOCATION:https://us02web.zoom.us/meeting/register/tZIvdeyhqjsqG9ds6FgOpnNcwG2ACHF4_jGg
END:VEVENT
BEGIN:VEVENT
DTSTART;TZID=Europe/London:20201126T190000
DTEND;TZID=Europe/London:20201126T200000
DTSTAMP:20260423T230234
CREATED:20201118T012421Z
LAST-MODIFIED:20201118T012421Z
UID:1785-1606417200-1606420800@animalrebellion.org
SUMMARY:Action Wellbeing Training
DESCRIPTION:
URL:https://animalrebellion.org/event/action-wellbeing-training-2/
END:VEVENT
BEGIN:VEVENT
DTSTART;TZID=Europe/London:20201127T190000
DTEND;TZID=Europe/London:20201127T200000
DTSTAMP:20260423T230234
CREATED:20201120T122952Z
LAST-MODIFIED:20201122T111834Z
UID:1813-1606503600-1606507200@animalrebellion.org
SUMMARY:Ronnie Lee: Interview And Q&A
DESCRIPTION:
URL:https://animalrebellion.org/event/ronnie-lee-interview-and-qa/
END:VEVENT
BEGIN:VEVENT
DTSTART;TZID=Europe/London:20201130T190000
DTEND;TZID=Europe/London:20201130T200000
DTSTAMP:20260423T230234
CREATED:20201118T012513Z
LAST-MODIFIED:20201118T012513Z
UID:1787-1606762800-1606766400@animalrebellion.org
SUMMARY:De-escalation Training
DESCRIPTION:
URL:https://animalrebellion.org/event/de-escalation-training/
END:VEVENT
END:VCALENDAR