BEGIN:VCALENDAR
VERSION:2.0
PRODID:-//Animal Rebellion - ECPv6.4.0.1//NONSGML v1.0//EN
CALSCALE:GREGORIAN
METHOD:PUBLISH
X-WR-CALNAME:Animal Rebellion
X-ORIGINAL-URL:https://animalrebellion.org
X-WR-CALDESC:Events for Animal Rebellion
REFRESH-INTERVAL;VALUE=DURATION:PT1H
X-Robots-Tag:noindex
X-PUBLISHED-TTL:PT1H
BEGIN:VTIMEZONE
TZID:Europe/London
BEGIN:DAYLIGHT
TZOFFSETFROM:+0000
TZOFFSETTO:+0100
TZNAME:BST
DTSTART:20210328T010000
END:DAYLIGHT
BEGIN:STANDARD
TZOFFSETFROM:+0100
TZOFFSETTO:+0000
TZNAME:GMT
DTSTART:20211031T010000
END:STANDARD
END:VTIMEZONE
BEGIN:VEVENT
DTSTART;TZID=Europe/London:20210803T190000
DTEND;TZID=Europe/London:20210803T200000
DTSTAMP:20260423T100654
CREATED:20210802T172453Z
LAST-MODIFIED:20210802T172453Z
UID:4353-1628017200-1628020800@animalrebellion.org
SUMMARY:Action Support Roles Briefing
DESCRIPTION:Would you like to find out how to get more involved and how to support at actions during the upcoming rebellion? This informal talk outlines the different support roles needed for a successful action and will help you discover which role(s) would be most suitable for you. Roles include wellbeing\, outreach\, de-escalation\, police liaison and stewarding. Information on further trainings for most of these roles will be given and the session will end with a Q&A.\nSign up to the Event Here:\nhttps://actionnetwork.org/…/intro-to-action-support-roles/
URL:https://animalrebellion.org/event/action-support-roles-briefing/
LOCATION:Online
ATTACH;FMTTYPE=image/jpeg:https://animalrebellion.org/wp-content/uploads/2021/08/6CF7544A-D50E-410D-9610-8DCF9F9E1DD8.jpeg
END:VEVENT
BEGIN:VEVENT
DTSTART;TZID=Europe/London:20210807T130000
DTEND;TZID=Europe/London:20210807T143000
DTSTAMP:20260423T100654
CREATED:20210802T044914Z
LAST-MODIFIED:20210802T045125Z
UID:4342-1628341200-1628346600@animalrebellion.org
SUMMARY:Live Q&A with Kristy Alger
DESCRIPTION:As described on her Medium profile Kristy Alger is a collective liberationist\, anti-speciesist theorist\, and author living on mumirimina country\, in lutruwita (“tasmania”) \nIn her book “Five Essays For Freedom: a political primer for animal advocates” Kristy introduces us to a complex web designed to uphold oppressive systems through a strong government-industry relationship and provides us with strategies and tactics that would help us fight against the pillars that uphold speciesism. \nInvite your friends\, prepare your questions and join the Animal Rebellion Book Club for a conversation with Kristy Alger. \nYou can join via zoom by registering here: https://us06web.zoom.us/meeting/register/tZ0kc-GuqTMqHdAfAEATAyuMs8nQrL6cWP6z \nYou can also join us via Facebook Live.
URL:https://animalrebellion.org/event/live-qa-with-kristy-alger/
LOCATION:Zoom & Facebook Live\, United Kingdom
ATTACH;FMTTYPE=image/jpeg:https://animalrebellion.org/wp-content/uploads/2021/08/010FA428-966F-4B17-9AD8-47E4FF15C36F.jpeg
END:VEVENT
BEGIN:VEVENT
DTSTART;TZID=Europe/London:20210808T130000
DTEND;TZID=Europe/London:20210808T160000
DTSTAMP:20260423T100654
CREATED:20210802T172923Z
LAST-MODIFIED:20210802T172923Z
UID:4356-1628427600-1628438400@animalrebellion.org
SUMMARY:Feast in the Street
DESCRIPTION:Welcome to Feast in the Street!\nOn the afternoon of Sunday 8th August\, we will be holding a street party to showcase some of the most outstanding environmental and justice organisations in Leeds\, and demonstrate the alternative ways of life that we need for the future of our city and our world.\nStalls\, food\, music\, art\, actions and more!\nCome down\, show support\, learn\, engage and find out how to get involved.\nIf you would like to be a part of organising the event\, get in touch with one of the host organisations.\nSee you there.
URL:https://animalrebellion.org/event/feast-in-the-street/
LOCATION:Briggate\, Leeds\, Leeds\, United Kingdom
ATTACH;FMTTYPE=image/jpeg:https://animalrebellion.org/wp-content/uploads/2021/08/B9B81092-6299-4087-80EF-A77AF92D7811.jpeg
END:VEVENT
BEGIN:VEVENT
DTSTART;TZID=Europe/London:20210812T190000
DTEND;TZID=Europe/London:20210812T210000
DTSTAMP:20260423T100654
CREATED:20210802T173717Z
LAST-MODIFIED:20210802T173745Z
UID:4360-1628794800-1628802000@animalrebellion.org
SUMMARY:DNA Workshop
DESCRIPTION:Two hour DNA workshop.\nLearn about Animal Rebellion’s Story\, Strategy\, Structure and Culture.
URL:https://animalrebellion.org/event/4360/
LOCATION:Online
ATTACH;FMTTYPE=image/jpeg:https://animalrebellion.org/wp-content/uploads/2021/08/A81ABDBB-3BF2-4D8C-8197-74CA71C50AB1.jpeg
END:VEVENT
BEGIN:VEVENT
DTSTART;TZID=Europe/London:20210812T190000
DTEND;TZID=Europe/London:20210812T220000
DTSTAMP:20260423T100654
CREATED:20210802T171900Z
LAST-MODIFIED:20210802T171900Z
UID:4349-1628794800-1628805600@animalrebellion.org
SUMMARY:Oppression\, movement building and our relationships as activists
DESCRIPTION:Oppression\, movement building and our relationships as activists.\nNote: We’ve experienced large numbers of people registering for this workshop and not turning up.\nThis prevents others from registering and attending because the workshop is sold out.\nSo we ask you to only book if you can attend and cancel your ticket in good time if you find you can’t make it.\n—–\nWe are members of XR looking at how movements can be divided when oppression goes unaddressed\, offering practical tools to heal these divisions which affect our relationships as activists.\nThis workshop will address the importance of understanding the structural nature of oppressions (such as racism\, sexism\, classism\, ableism\, the oppression of young people\, …)\, as well as doing personal healing work – both of which are necessary if we are to work together effectively in a united movement.\nPlease arrive from 15 minutes before the start time for a prompt start.\nWhen you register a Zoom link will be sent in your order confirmation email. Please check your junk mail folder in case your email ends up in there.\nPracticalities\nThis workshop is interactive so it’s useful if each participant can join the call on a separate device.\nBecause we will be breaking out into smaller groups for timed ‘listening exchanges’ it will be very helpful if you can bring a timer to the workshop\, e.g. you can use the timer app on a mobile phone (use a spare mobile if you are using your mobile for the Zoom call).\nWhen you’re in the Zoom meeting it is useful to choose “Gallery View” so that you can see everyone’s lovely faces (this doesn’t work on mobile phones).\nAccessibility\n* This workshop is in English. We are looking to train people who can facilitate in other languages.\n* We do not have sign language interpretation but you’re welcome to bring your own – please can you let us know by email ahead of time so we can help them prepare before the workshop (ombraworkshop@gmail.com).\n* If you have any accessibility needs please contact us on ombraworkshop@gmail.com to tell us about them and we will try to accommodate you.
URL:https://animalrebellion.org/event/oppression-movement-building-and-our-relationships-as-activists-2/
LOCATION:Online
ATTACH;FMTTYPE=image/jpeg:https://animalrebellion.org/wp-content/uploads/2021/08/4C12FD46-EE53-4E21-A984-E24038E41F21.jpeg
END:VEVENT
BEGIN:VEVENT
DTSTART;VALUE=DATE:20210814
DTEND;VALUE=DATE:20210816
DTSTAMP:20260423T100654
CREATED:20210803T150750Z
LAST-MODIFIED:20210803T150850Z
UID:4377-1628899200-1629071999@animalrebellion.org
SUMMARY:Paint The Streets Weekend
DESCRIPTION:From the 23rd August\, Animal Rebellion will occupy\, unite and rebel in central London to take action against the climate and animal emergency and you can help us spread the word. \nGet together with your friends\, organize with your local group and paint the streets with our rebellion posters and leaflets (you could also do chalking or any other artistic expression). \nClick here to request posters and leaflets \n 
URL:https://animalrebellion.org/event/paint-the-streets-weekend/
LOCATION:Your local area\, United Kingdom
ATTACH;FMTTYPE=image/jpeg:https://animalrebellion.org/wp-content/uploads/2021/08/F31573FE-51BD-4DC2-BBF8-F8AA11586616.jpeg
END:VEVENT
BEGIN:VEVENT
DTSTART;TZID=Europe/London:20210815T180000
DTEND;TZID=Europe/London:20210815T193000
DTSTAMP:20260423T100654
CREATED:20210810T232921Z
LAST-MODIFIED:20210810T232936Z
UID:4410-1629050400-1629055800@animalrebellion.org
SUMMARY:Discussion Space: Power and Privilege
DESCRIPTION:Animal Rebellion’s Anti-racism & Decolonization team are hosting an open discussion space on Power and Privilege.\nIt’s time for us to talk about how privilege and imbalance of power in human interaction contribute to the dominance over other animals and the earth.\n\nRegister in advance for this meeting: https://us06web.zoom.us/meeting/register/tZMocuqhqTstE9cwB-ft32-ow2aEclkhY5Tj?fbclid=IwAR2vX6IX95un2dWVyZItePTxniQvh0CIH7t-H9CxDL7UyGDVUR1HxauAIo0
URL:https://animalrebellion.org/event/discussion-space-power-and-privilege/
LOCATION:Online
ATTACH;FMTTYPE=image/jpeg:https://animalrebellion.org/wp-content/uploads/2021/08/POWER-AND-PRIVILEGE.jpg
END:VEVENT
BEGIN:VEVENT
DTSTART;VALUE=DATE:20210823
DTEND;VALUE=DATE:20210905
DTSTAMP:20260423T100654
CREATED:20210802T174214Z
LAST-MODIFIED:20210802T174308Z
UID:4364-1629676800-1630799999@animalrebellion.org
SUMMARY:The Animal Rebellion
DESCRIPTION:THIS IS THE ANIMAL REBELLION!\nFrom the 23rd August\, Animal Rebellion will occupy\, unite and rebel in central London to take action against the climate and animal emergency.\nLike our previous rebellions\, we will use our voices to demand that our government ACT NOW and TELL THE TRUTH\, but this time we must be louder than ever before.\nWe know the consequences of animal agriculture.\nWe know the severity of biodiversity loss and climate breakdown.\nAnd we know the lengths the government will go to silence us.\nNow we must act.\nTime is rapidly running out to mitigate the crises we face. We\, the people\, must reclaim our power and fight for our futures. We are facing the impossible\, but we know there is hope.\nA future in which animals are given dignity and the planet is put first IS possible\, but this will not occur without action. We need YOU to add your voice to the rebellion and push for a new world. Together we can make change. Together\, with love\, solidarity\, and unity\, we WILL build a better and just system.\nPledge to join us this August and stand strong against the system that allows for animal exploitation\, social division\, and climate denial.\nWe must ACT NOW. It’s time to Rebel for ALL Life\nhttps://actionnetwork.org/forms/pledge-to-join-the-rebellion\nCoach tickets from Vegan CampOut: https://www.eventbrite.co.uk/…/animal-rebellion-coach…\nKeep watching… more info to come.
URL:https://animalrebellion.org/event/the-animal-rebellion/
ATTACH;FMTTYPE=image/jpeg:https://animalrebellion.org/wp-content/uploads/2021/08/73563871-B5D0-4F83-8060-E74E04F1018E.jpeg
END:VEVENT
BEGIN:VEVENT
DTSTART;TZID=Europe/London:20210828T050000
DTEND;TZID=Europe/London:20210828T170000
DTSTAMP:20260423T100654
CREATED:20210802T175145Z
LAST-MODIFIED:20210802T175145Z
UID:4368-1630126800-1630170000@animalrebellion.org
SUMMARY:National Animal Rights March in London
DESCRIPTION:Save the date!\nThe National Animal Rights March will be held on 28th August 2021.\nLocation – Central London (exact location will be shared soon)\nDriven by the momentum of the Animal Rights Movement past and present\, we will unite against the exploitative system and vision a brighter future for all beings and our planet. It’s time to act.\nTHIS IS THE MOMENT\nJOIN US IN DEMANDING JUSTICE FOR ANIMALS\nMore info coming soon
URL:https://animalrebellion.org/event/national-animal-rights-march-in-london/
LOCATION:London\, London\, United Kingdom
ATTACH;FMTTYPE=image/jpeg:https://animalrebellion.org/wp-content/uploads/2021/08/EAFF109D-089E-491B-9AA0-283D92595941.jpeg
END:VEVENT
END:VCALENDAR