BEGIN:VCALENDAR
VERSION:2.0
PRODID:-//Animal Rebellion - ECPv6.4.0.1//NONSGML v1.0//EN
CALSCALE:GREGORIAN
METHOD:PUBLISH
X-WR-CALNAME:Animal Rebellion
X-ORIGINAL-URL:https://animalrebellion.org
X-WR-CALDESC:Events for Animal Rebellion
REFRESH-INTERVAL;VALUE=DURATION:PT1H
X-Robots-Tag:noindex
X-PUBLISHED-TTL:PT1H
BEGIN:VTIMEZONE
TZID:Europe/London
BEGIN:DAYLIGHT
TZOFFSETFROM:+0000
TZOFFSETTO:+0100
TZNAME:BST
DTSTART:20210328T010000
END:DAYLIGHT
BEGIN:STANDARD
TZOFFSETFROM:+0100
TZOFFSETTO:+0000
TZNAME:GMT
DTSTART:20211031T010000
END:STANDARD
TZID:UTC
BEGIN:STANDARD
TZOFFSETFROM:+0000
TZOFFSETTO:+0000
TZNAME:UTC
DTSTART:20210101T000000
END:STANDARD
TZID:UTC
BEGIN:STANDARD
TZOFFSETFROM:+0000
TZOFFSETTO:+0000
TZNAME:UTC
DTSTART:20210101T000000
END:STANDARD
END:VTIMEZONE
BEGIN:VEVENT
DTSTART;TZID=Europe/London:20211002T093000
DTEND;TZID=Europe/London:20211002T180000
DTSTAMP:20260423T054457
CREATED:20210909T184043Z
LAST-MODIFIED:20210909T212725Z
UID:4635-1633167000-1633197600@animalrebellion.org
SUMMARY:DNA Training
DESCRIPTION:Who is Animal Rebellion? How can I take action? This core training will cover everything you need to know about Animal Rebellion and our theory of change! \n  \nRegister here: https://forms.gle/Dui5pGez5vf8E7AZ6
URL:https://animalrebellion.org/event/dna-training-copy/
ATTACH;FMTTYPE=image/jpeg:https://animalrebellion.org/wp-content/uploads/2021/09/207E53D2-6FC9-435D-80A9-538FDBFD29FD.jpeg
END:VEVENT
BEGIN:VEVENT
DTSTART;TZID=Europe/London:20211011T180000
DTEND;TZID=Europe/London:20211011T200000
DTSTAMP:20260423T054457
CREATED:20210909T183229Z
LAST-MODIFIED:20210909T183229Z
UID:4628-1633975200-1633982400@animalrebellion.org
SUMMARY:Basic DNA Training
DESCRIPTION:Essential for all Animal Rebels to deepen their understanding of who Animal Rebellion is. A crash course into how we think social change happens and how we operate. This is a 2 hour long taste session to understand the basics of our story\, culture\, strategy and structure!\nZoom Registration:\nhttps://us06web.zoom.us/…/tZEpdeyqrDopGtyV7TeY35buw…
URL:https://animalrebellion.org/event/basic-dna-training-2/
ATTACH;FMTTYPE=image/jpeg:https://animalrebellion.org/wp-content/uploads/2021/09/072ED863-1209-45F4-8B18-4928C12F90A1.jpeg
END:VEVENT
BEGIN:VEVENT
DTSTART;TZID=UTC:20211012T183000
DTEND;TZID=UTC:20211012T203000
DTSTAMP:20260423T054457
CREATED:20211005T092229Z
LAST-MODIFIED:20211005T163300Z
UID:4740-1634063400-1634070600@animalrebellion.org
SUMMARY:Non-Violent Direct Action
DESCRIPTION:NVDA is a fundamental component of our theory of change. But why non-violence and what are some of the tactics we can use? We’ll explore these concepts and more in this core training\, which is a must for all Animal Rebels to attend! \nRegistration Link \nhttps://us06web.zoom.us/meeting/register/tZcpfuisqj8tE9DE6HqeAGhkGgF0rao8qypp
URL:https://animalrebellion.org/event/non-violent-direct-action-copy/
LOCATION:Online
CATEGORIES:Talks & Trainings
ATTACH;FMTTYPE=image/jpeg:https://animalrebellion.org/wp-content/uploads/2021/05/182980200_936456877106549_8573060960307469732_n.jpg
END:VEVENT
BEGIN:VEVENT
DTSTART;TZID=Europe/London:20211016T170000
DTEND;TZID=Europe/London:20211016T183000
DTSTAMP:20260423T054457
CREATED:20210928T144747Z
LAST-MODIFIED:20211001T012000Z
UID:4679-1634403600-1634409000@animalrebellion.org
SUMMARY:Book Club - Hegemony How To
DESCRIPTION:Register in advance for this meeting:\nhttps://us06web.zoom.us/…/tZMkdu6hpzwvEtYRl…\n\nAfter registering\, you will receive a confirmation email containing information about joining the meeting.\n\nYou are encouraged to read the materials prior to the session but this is not a requisite to join. The more important thing is turning up and join the conversation. Prior to each session you will receive an email with a short list of key points from the reading to allow everyone to engage with discussions.\n\nIn this session we will discuss following chapters:\n\n-POLITICAL ORPHANS\n-THE 99%: THE SYMBOL AND THE AGENT\n-LIFE OF THE OPPOSITIONAL GROUP\n\nIf cost of the book is a barrier for you\, please get in touch with us at bookclub@animalrebellion.org\n\nAbout the book:\n\nHegemony How-To is a practical guide to political struggle for a generation that is deeply ambivalent about questions of power\, leadership\, and strategy. Hopeful about the potential of today’s burgeoning movements\, long-time grassroots organiser Jonathan Smucker nonetheless pulls no punches when confronting their internal dysfunction.\n\nDrawing from personal experience\, he provides deep theoretical insight into the all-too-familiar radical tendency toward self-defeating insularity and paralysing purism. At the same time\, he offers tools to bridge the divide between anti-authoritarian values and hegemonic strategies\, tools that might just help today’s movements to navigate their obstacles—and change the world. \n\nThis is the first of three sessions about this book.
URL:https://animalrebellion.org/event/book-club-hegemony-how-to/
LOCATION:zoom
CATEGORIES:Book Club
ATTACH;FMTTYPE=image/png:https://animalrebellion.org/wp-content/uploads/2021/09/book-club-how-to-hegemony-event.png
END:VEVENT
BEGIN:VEVENT
DTSTART;TZID=UTC:20211025T190000
DTEND;TZID=UTC:20211025T200000
DTSTAMP:20260423T054457
CREATED:20211018T151627Z
LAST-MODIFIED:20211018T151627Z
UID:4779-1635188400-1635192000@animalrebellion.org
SUMMARY:Animal Rebellion Welcome Talk
DESCRIPTION:Animal Rebellion Welcome Talk  \nDate: Monday\, 25/10/21 \nTime: 7pm \nZoom link: \nhttps://us02web.zoom.us/j/85102379827?pwd=NVJhWk1hYUNOV1JjdzQ5dzZnd2pXQT09 \n  \nHave you ever felt furious or terrified at the unfolding of the climate and ecological crises but didn’t know what you could do? Are you disgusted by the injustice of the animal agriculture industry but feel like individual consumer choices are not enough? Maybe you have heard of Animal Rebellion and are wondering what all the fuss is about? Or perhaps you know what’s up but are wondering how to get involved?  \nIf any of the above applies to you\, why not come along to our Welcome to Animal Rebellion talk? This is where we will break it all down for you. We will discuss who we are and what our strategy to achieve change is. Most importantly\, we will show you how you have the power to make a difference\, wherever you are and whatever you have to offer.  \nTogether we will win the future we need! \n 
URL:https://animalrebellion.org/event/animal-rebellion-welcome-talk/
END:VEVENT
BEGIN:VEVENT
DTSTART;TZID=UTC:20211026T183000
DTEND;TZID=UTC:20211026T203000
DTSTAMP:20260423T054457
CREATED:20211005T091612Z
LAST-MODIFIED:20211005T091612Z
UID:4732-1635273000-1635280200@animalrebellion.org
SUMMARY:DNA Workshop
DESCRIPTION:Understanding our DNA is fundamental for every rebel who takes action in the name of Animal Rebellion. In this core training we’ll be exploring the Strategy\, Story\, Culture and Structure of Animal Rebellion. \nRegistration Link \nhttps://us06web.zoom.us/meeting/register/tZUsdOqoqD0rGNLx2bxV1vuFXKNPHvW9LpcJ \n \n 
URL:https://animalrebellion.org/event/dna-workshop-2/
LOCATION:Online
CATEGORIES:Talks & Trainings
ATTACH;FMTTYPE=image/jpeg:https://animalrebellion.org/wp-content/uploads/2021/09/207E53D2-6FC9-435D-80A9-538FDBFD29FD.jpeg
END:VEVENT
BEGIN:VEVENT
DTSTART;TZID=UTC:20211027T183000
DTEND;TZID=UTC:20211027T203000
DTSTAMP:20260423T054457
CREATED:20211005T091144Z
LAST-MODIFIED:20211005T092525Z
UID:4729-1635359400-1635366600@animalrebellion.org
SUMMARY:Non-Violent Direct Action  27.10.2021
DESCRIPTION:NVDA is a fundamental component of our theory of change. But why non-violence and what are some of the tactics we can use? We’ll explore these concepts and more in this core training\, which is a must for all Animal Rebels to attend! \nRegistration Link \nhttps://us06web.zoom.us/meeting/register/tZArc-utqD4qGtcgRffsfV8Y9wriuCXwozCJ
URL:https://animalrebellion.org/event/non-violent-direct-action2710/
LOCATION:Online
CATEGORIES:Talks & Trainings
ATTACH;FMTTYPE=image/jpeg:https://animalrebellion.org/wp-content/uploads/2021/05/182980200_936456877106549_8573060960307469732_n.jpg
END:VEVENT
END:VCALENDAR