BEGIN:VCALENDAR
VERSION:2.0
PRODID:-//Animal Rebellion - ECPv6.4.0.1//NONSGML v1.0//EN
CALSCALE:GREGORIAN
METHOD:PUBLISH
X-ORIGINAL-URL:https://animalrebellion.org
X-WR-CALDESC:Events for Animal Rebellion
REFRESH-INTERVAL;VALUE=DURATION:PT1H
X-Robots-Tag:noindex
X-PUBLISHED-TTL:PT1H
BEGIN:VTIMEZONE
TZID:Europe/London
BEGIN:DAYLIGHT
TZOFFSETFROM:+0000
TZOFFSETTO:+0100
TZNAME:BST
DTSTART:20220327T010000
END:DAYLIGHT
BEGIN:STANDARD
TZOFFSETFROM:+0100
TZOFFSETTO:+0000
TZNAME:GMT
DTSTART:20221030T010000
END:STANDARD
END:VTIMEZONE
BEGIN:VEVENT
DTSTART;TZID=Europe/London:20220306T110000
DTEND;TZID=Europe/London:20220306T150000
DTSTAMP:20260422T235401
CREATED:20220301T132434Z
LAST-MODIFIED:20220301T132515Z
UID:6012-1646564400-1646578800@animalrebellion.org
SUMMARY:Social Sundays
DESCRIPTION:Relaxed cafe social to bring together the Animal Rebellion Community!\n\n\nPlease drop in to our favourite plant-based cafe in Islington between 11-2 for socialising\, community building\, and discussion. \n\nJoin our whatsapp here: https://chat.whatsapp.com/HYcMc8iZ140BPOxE6yhp09\n\nAll you need is yourself\, we are a super friendly group and eager to meet some new faces! Newbies and quiet people always welcome.\n\nMessage us if you need any support or someone to meet you on the day!
URL:https://animalrebellion.org/event/social-sundays-2-copy/
LOCATION:Copperhouse Chocolate Cafe\, 1 Chapel Market\, London\, N1 9EZ\, United Kingdom
ATTACH;FMTTYPE=image/png:https://animalrebellion.org/wp-content/uploads/2022/01/Social-sundays-facebook-event-banner.png
END:VEVENT
BEGIN:VEVENT
DTSTART;TZID=Europe/London:20220306T180000
DTEND;TZID=Europe/London:20220306T200000
DTSTAMP:20260422T235401
CREATED:20220305T154403Z
LAST-MODIFIED:20220305T154403Z
UID:6076-1646589600-1646596800@animalrebellion.org
SUMMARY:Plant Based Future Talk
DESCRIPTION:As the IPCC has confirmed\, the climate is changing rapidly and we are all witnessing the breakdown of our eco system. But what’s actually happening and what can we do about it? In this talk\, Animal Rebellion summarises what has caused the climate emergency\, what we can do about it and how to get involved.\nJoin us for this online talk and learn more about the climate breakdown\, meet new people and ask any questions. \nWe may be facing dark times ahead but there’s always an opportunity for positive change. We come in peace\, love and solidarity and invite you to join us in this rebellion!
URL:https://animalrebellion.org/event/plant-based-future-talk-7/
ATTACH;FMTTYPE=image/jpeg:https://animalrebellion.org/wp-content/uploads/2022/03/Plant-Based-Future.jpg
END:VEVENT
BEGIN:VEVENT
DTSTART;TZID=Europe/London:20220307T190000
DTEND;TZID=Europe/London:20220307T203000
DTSTAMP:20260422T235401
CREATED:20220301T133146Z
LAST-MODIFIED:20220301T133349Z
UID:6025-1646679600-1646685000@animalrebellion.org
SUMMARY:2022 Plant-Based Schools Campaign
DESCRIPTION:Join us in our 2022 campaign: Plant-Based Schools and Councils!\n\nCome along to find out how to get involved as we demand that local councils stop serving animal products in their schools and council events to combat the climate crisis.\n\nWe’ve had some wins with Oxfordshire recently voting for only plant-based food at council events. Flintshire in North Wales is moving towards plant-based days in 70 primary schools and 11 high schools. North Yorkshire have introduced one veg day per week.\n\nSign up for our talk today to find out how you can be part of this incredible journey: https://actionnetwork.org/…/plant-based-councils…https://actionnetwork.org/events/plant-based-councils-campaign-introduction-talk-18 \n\nYou can also register your interest to get updates on the campaign: https://actionnetwork.org/…/local-council-campaign-to..
URL:https://animalrebellion.org/event/2022-plant-based-schools-campaign-copy/
ATTACH;FMTTYPE=image/jpeg:https://animalrebellion.org/wp-content/uploads/2022/02/272981544_1111178886301013_8898898729922796338_n.jpg
END:VEVENT
BEGIN:VEVENT
DTSTART;TZID=Europe/London:20220311T180000
DTEND;TZID=Europe/London:20220311T200000
DTSTAMP:20260422T235401
CREATED:20220308T134701Z
LAST-MODIFIED:20220308T161830Z
UID:6129-1647021600-1647028800@animalrebellion.org
SUMMARY:Plant Based Future Talk
DESCRIPTION:As the IPCC has confirmed\, the climate is changing rapidly and we are all witnessing the breakdown of our eco system. But what’s actually happening and what can we do about it? In this talk\, Animal Rebellion summarises what has caused the climate emergency\, what we can do about it and how to get involved.\nJoin us for this online talk and learn more about the climate breakdown\, meet new people and ask any questions. \nWe may be facing dark times ahead but there’s always an opportunity for positive change. We come in peace\, love and solidarity and invite you to join us in this rebellion!
URL:https://animalrebellion.org/event/plant-based-future-talk-8-copy/
ATTACH;FMTTYPE=image/jpeg:https://animalrebellion.org/wp-content/uploads/2022/03/Plant-Based-Future.jpg
END:VEVENT
BEGIN:VEVENT
DTSTART;TZID=Europe/London:20220313T110000
DTEND;TZID=Europe/London:20220313T150000
DTSTAMP:20260422T235401
CREATED:20220301T132525Z
LAST-MODIFIED:20220301T132558Z
UID:6015-1647169200-1647183600@animalrebellion.org
SUMMARY:Social Sundays
DESCRIPTION:Relaxed cafe social to bring together the Animal Rebellion Community!\n\n\nPlease drop in to our favourite plant-based cafe in Islington between 11-2 for socialising\, community building\, and discussion. \n\nJoin our whatsapp here: https://chat.whatsapp.com/HYcMc8iZ140BPOxE6yhp09\n\nAll you need is yourself\, we are a super friendly group and eager to meet some new faces! Newbies and quiet people always welcome.\n\nMessage us if you need any support or someone to meet you on the day!
URL:https://animalrebellion.org/event/social-sundays-2-copy-copy/
LOCATION:Copperhouse Chocolate Cafe\, 1 Chapel Market\, London\, N1 9EZ\, United Kingdom
ATTACH;FMTTYPE=image/png:https://animalrebellion.org/wp-content/uploads/2022/01/Social-sundays-facebook-event-banner.png
END:VEVENT
BEGIN:VEVENT
DTSTART;TZID=Europe/London:20220315T180000
DTEND;TZID=Europe/London:20220315T193000
DTSTAMP:20260422T235401
CREATED:20220308T161656Z
LAST-MODIFIED:20220308T161740Z
UID:6136-1647367200-1647372600@animalrebellion.org
SUMMARY:Know Your Rights
DESCRIPTION:Our know your rights traning goes over the basics of what you may need to know when going out to a protest\, and what to expect if you decide to get arrested.\nWe will be going over the powers of the police at protests so people don’t have to be feel like you are being bullied by the police.\nWhat rights you have while in custody & what to expect while you are awaiting your realise. \nhttps://www.eventbrite.co.uk/e/know-your-rights-tickets-293225975787
URL:https://animalrebellion.org/event/know-your-rights-6/
ATTACH;FMTTYPE=image/jpeg:https://animalrebellion.org/wp-content/uploads/2022/02/Know-Your-Rights-FB.jpeg
END:VEVENT
BEGIN:VEVENT
DTSTART;TZID=Europe/London:20220320T110000
DTEND;TZID=Europe/London:20220320T150000
DTSTAMP:20260422T235401
CREATED:20220301T132606Z
LAST-MODIFIED:20220301T132624Z
UID:6019-1647774000-1647788400@animalrebellion.org
SUMMARY:Social Sundays
DESCRIPTION:Relaxed cafe social to bring together the Animal Rebellion Community!\n\n\nPlease drop in to our favourite plant-based cafe in Islington between 11-2 for socialising\, community building\, and discussion. \n\nJoin our whatsapp here: https://chat.whatsapp.com/HYcMc8iZ140BPOxE6yhp09\n\nAll you need is yourself\, we are a super friendly group and eager to meet some new faces! Newbies and quiet people always welcome.\n\nMessage us if you need any support or someone to meet you on the day!
URL:https://animalrebellion.org/event/social-sundays-2-copy-copy-copy/
LOCATION:Copperhouse Chocolate Cafe\, 1 Chapel Market\, London\, N1 9EZ\, United Kingdom
ATTACH;FMTTYPE=image/png:https://animalrebellion.org/wp-content/uploads/2022/01/Social-sundays-facebook-event-banner.png
END:VEVENT
BEGIN:VEVENT
DTSTART;TZID=Europe/London:20220322T180000
DTEND;TZID=Europe/London:20220322T200000
DTSTAMP:20260422T235401
CREATED:20220308T134954Z
LAST-MODIFIED:20220308T161812Z
UID:6132-1647972000-1647979200@animalrebellion.org
SUMMARY:Plant Based Future Talk
DESCRIPTION:As the IPCC has confirmed\, the climate is changing rapidly and we are all witnessing the breakdown of our eco system. But what’s actually happening and what can we do about it? In this talk\, Animal Rebellion summarises what has caused the climate emergency\, what we can do about it and how to get involved.\nJoin us for this online talk and learn more about the climate breakdown\, meet new people and ask any questions. \nWe may be facing dark times ahead but there’s always an opportunity for positive change. We come in peace\, love and solidarity and invite you to join us in this rebellion!
URL:https://animalrebellion.org/event/plant-based-future-talk-8-copy-2/
ATTACH;FMTTYPE=image/jpeg:https://animalrebellion.org/wp-content/uploads/2022/03/Plant-Based-Future.jpg
END:VEVENT
BEGIN:VEVENT
DTSTART;TZID=Europe/London:20220325T180000
DTEND;TZID=Europe/London:20220325T200000
DTSTAMP:20260422T235401
CREATED:20220305T154756Z
LAST-MODIFIED:20220426T121509Z
UID:6080-1648231200-1648238400@animalrebellion.org
SUMMARY:Plant Based Future Talk
DESCRIPTION:As the IPCC has confirmed\, the climate is changing rapidly and we are all witnessing the breakdown of our eco system. But what’s actually happening and what can we do about it? In this talk\, Animal Rebellion summarises what has caused the climate emergency\, what we can do about it and how to get involved.\nJoin us for this online talk and learn more about the climate breakdown\, meet new people and ask any questions.\n\nWe may be facing dark times ahead but there’s always an opportunity for positive change. We come in peace\, love and solidarity and invite you to join us in this rebellion!
URL:https://animalrebellion.org/event/plant-based-future-talk-8/
ATTACH;FMTTYPE=image/jpeg:https://animalrebellion.org/wp-content/uploads/2022/03/Plant-Based-Future.jpg
END:VEVENT
BEGIN:VEVENT
DTSTART;TZID=Europe/London:20220327T180000
DTEND;TZID=Europe/London:20220327T200000
DTSTAMP:20260422T235401
CREATED:20220301T132352Z
LAST-MODIFIED:20220301T132642Z
UID:6009-1648404000-1648411200@animalrebellion.org
SUMMARY:(Pub!) Social Sundays
DESCRIPTION:Relaxed pub social to bring together the Animal Rebellion Community! \nPlease drop in to our favourite pub in Finsbury Park between 6-8pm for socialising\, community building\, and discussion. \nBlackstock Pub\n284 Seven Sisters Road\nFinsbury Park\nLondon\nN4 2HY \nJoin our WhatsApp here: https://chat.whatsapp.com/HYcMc8iZ140BPOxE6yhp09 \nAll you need is yourself\, we are a super friendly group and eager to meet some new faces! Newbies and quiet people always welcome. \nLet us know if we can support you in any way.
URL:https://animalrebellion.org/event/social-sundays-copy-copy-copy/
LOCATION:The Blackstock Pub\, 284 Seven Sisters Road\, London\, N4 2HY\, United Kingdom
ATTACH;FMTTYPE=image/jpeg:https://animalrebellion.org/wp-content/uploads/2022/02/social-sundays-pub-version.jpg
END:VEVENT
BEGIN:VEVENT
DTSTART;TZID=Europe/London:20220331T180000
DTEND;TZID=Europe/London:20220331T190000
DTSTAMP:20260422T235401
CREATED:20220325T085537Z
LAST-MODIFIED:20220325T113627Z
UID:6292-1648749600-1648753200@animalrebellion.org
SUMMARY:Know Your Rights!
DESCRIPTION:Rebellion season is here!  \n\n\n\nAre you wanting to attend an action or demonstration? Would you like to show your support to rebels who are on the front lines causing disruption? How can you be prepared? \n\n\n\nOur know your rights training goes over the basics of what you may need to know when going out to a protest\, and what to expect if you decide to get arrested. We will be going over the powers of the police at protests so people don’t have to be feel like you are being bullied by the police. What rights you have while in custody & what to expect while you are awaiting your release. Register to attend the event here: \n\n\n\nhttps://www.eventbrite.co.uk/e/305572454437
URL:https://animalrebellion.org/event/6292/
CATEGORIES:Rebellion,Talks & Trainings
ATTACH;FMTTYPE=image/jpeg:https://animalrebellion.org/wp-content/uploads/2022/02/Know-Your-Rights-FB.jpeg
END:VEVENT
END:VCALENDAR