BEGIN:VCALENDAR
VERSION:2.0
PRODID:-//Animal Rebellion - ECPv6.4.0.1//NONSGML v1.0//EN
CALSCALE:GREGORIAN
METHOD:PUBLISH
X-WR-CALNAME:Animal Rebellion
X-ORIGINAL-URL:https://animalrebellion.org
X-WR-CALDESC:Events for Animal Rebellion
REFRESH-INTERVAL;VALUE=DURATION:PT1H
X-Robots-Tag:noindex
X-PUBLISHED-TTL:PT1H
BEGIN:VTIMEZONE
TZID:Europe/London
BEGIN:DAYLIGHT
TZOFFSETFROM:+0000
TZOFFSETTO:+0100
TZNAME:BST
DTSTART:20220327T010000
END:DAYLIGHT
BEGIN:STANDARD
TZOFFSETFROM:+0100
TZOFFSETTO:+0000
TZNAME:GMT
DTSTART:20221030T010000
END:STANDARD
END:VTIMEZONE
BEGIN:VEVENT
DTSTART;TZID=Europe/London:20220604T103000
DTEND;TZID=Europe/London:20220604T170000
DTSTAMP:20260422T182354
CREATED:20220602T174234Z
LAST-MODIFIED:20220602T175113Z
UID:6771-1654338600-1654362000@animalrebellion.org
SUMMARY:AxR Bristol March and Outreach Event! 
DESCRIPTION: JOIN US!  \n\n\n\nOn the 4th of June we will be uniting with the Plant Based Treaty and the Extinction Rebellion samba band to raise awareness of the need for a plant based food system while promoting our return to the environmental activism scene.  \n\n\n\nCome join us outside Barclay’s bank in the centre of Broadmead at 10:30am. The more people we can unite\, the greater impact we will be able to have. Our action will be a low level protest and outreach event. Our aim is for this event to be inclusive and enjoyable\, uniting anyone interested in seeing a change in our food system that is fairer\, healthier and more sustainable. This change is crucial if we are to stand a chance of stopping climate change and restoring balance on our beautiful planet! \n\n\n\nNot much is required to get involved\, just helping us get numbers up by being there and holding a banner would be hugely appreciated! It should be a fun event and a great opportunity to meet like-minded people
URL:https://animalrebellion.org/event/axr-bristol-march-and-outreach-event/
LOCATION:Broadmed\, Broadmed\, Bristol\, United Kingdom
CATEGORIES:Local Groups,South
ATTACH;FMTTYPE=image/jpeg:https://animalrebellion.org/wp-content/uploads/2022/06/7F6C1065-7A0C-494C-8262-34630BAB3D43.jpeg
END:VEVENT
BEGIN:VEVENT
DTSTART;TZID=Europe/London:20220605T110000
DTEND;TZID=Europe/London:20220605T140000
DTSTAMP:20260422T182354
CREATED:20220602T160521Z
LAST-MODIFIED:20220602T164307Z
UID:6738-1654426800-1654437600@animalrebellion.org
SUMMARY:Low-risk activism - London
DESCRIPTION:🇬🇧Inspired by today’s actions? 🇬🇧 \n\n\n\nJoin us Sunday morning in Westminster for some easy\, low-risk activism to keep the message going! ✊ \n\n\n\nWild Card is asking for a little help ahead of the pageant. The job would be advertising around Westminster\, Charing Cross\, Victoria and Piccadilly Tube stations plus the pageant route. \n\n\n\nAnd let’s find somewhere for a plant-based lunch after all our hard work😁 \n\n\n\n🕛Meet at St James’ Square at 11am!
URL:https://animalrebellion.org/event/low-risk-activism/
LOCATION:St James square\, Saint James Square\, London\, SW1Y\, United Kingdom
CATEGORIES:Local Groups,LocalGroups,London
ATTACH;FMTTYPE=image/png:https://animalrebellion.org/wp-content/uploads/2021/05/cropped-cropped-3.-Transparent-branded-logo-1.png
END:VEVENT
BEGIN:VEVENT
DTSTART;TZID=Europe/London:20220609T183000
DTEND;TZID=Europe/London:20220609T203000
DTSTAMP:20260422T182354
CREATED:20220525T205904Z
LAST-MODIFIED:20220525T213110Z
UID:6683-1654799400-1654806600@animalrebellion.org
SUMMARY:Online Story DNA Workshop
DESCRIPTION:This online workshop is an opportunity to explore our personal and shared stories in Animal Rebellion. How do we frame our story as a movement? Why do we use certain words and concepts\, yet avoid others? How does it reach out to people? What do we mean by our ‘shared vision of change’? \n\n\n\nThe workshop will be held via Zoom. Register for the workshop below.
URL:https://animalrebellion.org/event/online-story-dna-workshop/
LOCATION:Online
CATEGORIES:DNA,Public
ATTACH;FMTTYPE=image/jpeg:https://animalrebellion.org/wp-content/uploads/2021/12/story-dna.jpg
END:VEVENT
BEGIN:VEVENT
DTSTART;TZID=Europe/London:20220610T100000
DTEND;TZID=Europe/London:20220610T170000
DTSTAMP:20260422T182354
CREATED:20220609T165601Z
LAST-MODIFIED:20220609T205250Z
UID:6842-1654855200-1654880400@animalrebellion.org
SUMMARY:Flyering at Overheated (Billie Eilish)
DESCRIPTION:Join us to hand out flyers at Billie Eilish’s event Overheated.  \n\n\n\nThose attending the event are already connected to the climate and ecological emergency. The next logical step is to recognise the leading driver of the climate and ecological emergency alongside fossil fuels: animal agriculture. \n\n\n\nThis is part of a larger campaign dedicated to a plant based future. \n\n\n\nIn September we will be disrupting dairy supply across the UK with 500 people over a 1-2 week period\, cutting off the supply of milk to supermarkets and causing unignorable high-level disruption which will be felt by tens of million of people across the UK. \n\n\n\nIn the lead up to September’s actions we are looking to reach out to those with similar values and hopes for a liveable future\, free of both human and non-human animal exploitation.  \n\n\n\nJoin our chat for updates on future events\, talks and socials: https://chat.whatsapp.com/HYcMc8iZ140BPOxE6yhp09 \n\n\n\nFor more info about the campaign see: https://docs.google.com/…/1OBRqYuCK…/edit
URL:https://animalrebellion.org/event/flyering-at-overheated-billie-eilish/
CATEGORIES:Local Groups,London
ATTACH;FMTTYPE=image/png:https://animalrebellion.org/wp-content/uploads/2022/01/Site-Icon-Large.png
END:VEVENT
BEGIN:VEVENT
DTSTART;TZID=Europe/London:20220610T123000
DTEND;TZID=Europe/London:20220610T170000
DTSTAMP:20260422T182354
CREATED:20220602T161233Z
LAST-MODIFIED:20220602T173945Z
UID:6745-1654864200-1654880400@animalrebellion.org
SUMMARY:Exeter Plant-Based Unis Campaign & Animal Rebellion Devon joint social
DESCRIPTION:Exeter Plant-Based Unis Campaign & Animal Rebellion Devon joint social!Picnic\, 12.30pm\, at Exeter Forum at Exeter University. All welcome.
URL:https://animalrebellion.org/event/exeter-plant-based-unis-campaign-animal-rebellion-devon-joint-social/
LOCATION:Exeter university\, Exeter University\, United Kingdom
CATEGORIES:Devon,Local Groups,LocalGroups,South
ATTACH;FMTTYPE=image/jpeg:https://animalrebellion.org/wp-content/uploads/2022/06/5E2E03F6-DF22-4D0F-B044-AB3B1F06EBF1.jpeg
END:VEVENT
BEGIN:VEVENT
DTSTART;TZID=Europe/London:20220611T100000
DTEND;TZID=Europe/London:20220612T170000
DTSTAMP:20260422T182354
CREATED:20220610T192618Z
LAST-MODIFIED:20220610T192619Z
UID:6846-1654941600-1655053200@animalrebellion.org
SUMMARY:Animal Rebellion at Vegan Life Live
DESCRIPTION:Animal Rebellion have a stall at Vegan Life Live and we would love it if you stopped by to say hello! \n\n\n\nHear about our current campaigns in our live talks: \n\n\n\nPlant-based Universities – 1:30 SaturdayLet’s Stop the Supply of Dairy – 4pm Sunday. \n\n\n\nCome and meet some of our lovely London group and find out how you can get more involved! \n\n\n\nJoin our chat for updates on future events\, talks and socials: https://chat.whatsapp.com/HYcMc8iZ140BPOxE6yhp09
URL:https://animalrebellion.org/event/animal-rebellion-at-vegan-life-live/
LOCATION:Ally Pally\, Alexandra palace way\, London\, N22 7AY\, United Kingdom
CATEGORIES:Local Groups,London
ATTACH;FMTTYPE=image/jpeg:https://animalrebellion.org/wp-content/uploads/2022/06/signal-2022-06-08-092450_001.jpeg
END:VEVENT
BEGIN:VEVENT
DTSTART;TZID=Europe/London:20220611T120000
DTEND;TZID=Europe/London:20220612T180000
DTSTAMP:20260422T182354
CREATED:20220602T161900Z
LAST-MODIFIED:20220602T174018Z
UID:6751-1654948800-1655056800@animalrebellion.org
SUMMARY:Exeter Respect Festival
DESCRIPTION:Exeter Respect Festival\, Belmont Park\, 12-6pm. https://www.exeter-respect.org/Animal Rebellion Devon will be sharing a stall with Exeter Friends For Animals.
URL:https://animalrebellion.org/event/exeter-respect-festival/
LOCATION:Belmont Park\, Belmont Park\, Exeter\, United Kingdom
CATEGORIES:Devon,Local Groups,LocalGroups,South
ATTACH;FMTTYPE=image/jpeg:https://animalrebellion.org/wp-content/uploads/2022/06/5E2E03F6-DF22-4D0F-B044-AB3B1F06EBF1.jpeg
END:VEVENT
BEGIN:VEVENT
DTSTART;TZID=Europe/London:20220615T183000
DTEND;TZID=Europe/London:20220615T203000
DTSTAMP:20260422T182354
CREATED:20220523T185535Z
LAST-MODIFIED:20220525T213043Z
UID:6661-1655317800-1655325000@animalrebellion.org
SUMMARY:Online Strategy DNA Workshop
DESCRIPTION:This online workshop is all about our core purpose as a movement\, what our goals are and what tools we use to get there. Learn about the pillars of support\, why we aim our actions towards the Government\, how we shift hearts and minds of the public and the key principles of Civil Disobedience. There is an opportunity to explore these concepts together and discuss our strategy.  \n\n\n\nThe workshop will be held via Zoom. Register for the workshop below.
URL:https://animalrebellion.org/event/online-strategy-dna-workshop-2/
LOCATION:Online
CATEGORIES:DNA,Public
ATTACH;FMTTYPE=image/jpeg:https://animalrebellion.org/wp-content/uploads/2021/12/strategy-dna.jpg
END:VEVENT
BEGIN:VEVENT
DTSTART;TZID=Europe/London:20220616T190000
DTEND;TZID=Europe/London:20220616T200000
DTSTAMP:20260422T182354
CREATED:20220608T083952Z
LAST-MODIFIED:20220608T083952Z
UID:6824-1655406000-1655409600@animalrebellion.org
SUMMARY:Join Us To Stop The Supply of Dairy
DESCRIPTION: JOIN US TO STOP THE SUPPLY OF DAIRY THIS SEPTEMBER  \n\n\n\nRegister to hear about how 500 people will be engaging in civil resistance this September\, and how you can join them!We will be holding animal agriculture and the British Government to account.We are demanding a plant-based future and just transition for all.This Changes Everything. \n\n\n\nRegister in advance for this meeting: \n\n\n\nhttps://us02web.zoom.us/meeting/register/tZcudeysqjIrGdXXY6yMHhm8uEgyi_irSOwG
URL:https://animalrebellion.org/event/join-us-to-stop-the-supply-of-dairy/
ATTACH;FMTTYPE=image/jpeg:https://animalrebellion.org/wp-content/uploads/2022/06/signal-2022-06-08-092450_001.jpeg
END:VEVENT
BEGIN:VEVENT
DTSTART;TZID=Europe/London:20220620T183000
DTEND;TZID=Europe/London:20220620T203000
DTSTAMP:20260422T182354
CREATED:20220530T080808Z
LAST-MODIFIED:20220530T080809Z
UID:6711-1655749800-1655757000@animalrebellion.org
SUMMARY:Online Structure DNA Workshop
DESCRIPTION:This online workshop is an opportunity to explore Animal Rebellion UK’s structure of coordination and learn about how we make decisions. What are the key principles\, ways of working and challenges of our Self-Organising-System and how is it expanding as we continually grow? Discuss leadership\, autonomy and the fundamental building blocks of trust and communication. \n\n\n\nThe workshop will be held via Zoom. Register for the workshop below.
URL:https://animalrebellion.org/event/online-structure-dna-workshop/
LOCATION:Online
CATEGORIES:DNA,Public
ATTACH;FMTTYPE=image/jpeg:https://animalrebellion.org/wp-content/uploads/2021/12/structure-dna.jpg
END:VEVENT
BEGIN:VEVENT
DTSTART;TZID=Europe/London:20220622T190000
DTEND;TZID=Europe/London:20220622T210000
DTSTAMP:20260422T182354
CREATED:20220621T221347Z
LAST-MODIFIED:20220621T221348Z
UID:6902-1655924400-1655931600@animalrebellion.org
SUMMARY:Stop The Supply - Colchester Talk
DESCRIPTION:This September Animal Rebellion will be nonviolently stopping the supply of dairy across the UK with 500 people over a 1-2 week period\, cutting off the supply of milk to supermarkets and causing unignorable high-level disruption which will be felt by tens of million of people across the UK.By causing this disruption day after day we will transform public opinion and pressure the government to act.We must take this action because billions of animals are dying in the dairy industry and other animal farming and fishing industries. We must take this action because we are in a climate and nature emergency and what we do in the next 2-3 years will determine the future of humanity.The science is that transitioning to a plant-based future and rewilding the freed-up land is the key solution to the climate and nature emergencies. We can bring back wildlife and drawdown enough carbon from the atmosphere to make the UK net negative in emissions. This will buy us the critical time we need to make other transformative changes and prevent environmental catastrophe. We will be demanding this of the government.Come along to our talk in Colchester to hear about the campaign and find out how you can get involved.We rebel for all life.Colchester Quakers Meeting HouseAddress: 6 Church St\, Colchester CO1 1NFStarting at 7pm – End By 9pmIf you have additional needs please contact us so we can offer support.Any further questions can be sent to our facebook page or email animalrebellionessex@protonmail.com
URL:https://animalrebellion.org/event/stop-the-supply-colchester-talk/
LOCATION:Colchester Quakers Meeting House\, 6 Church St\, Colchester\, CO1 1NF\, United Kingdom
CATEGORIES:Local Groups,South Midlands
ATTACH;FMTTYPE=image/jpeg:https://animalrebellion.org/wp-content/uploads/2022/06/signal-2022-06-08-092450_001.jpeg
END:VEVENT
BEGIN:VEVENT
DTSTART;TZID=Europe/London:20220623T190000
DTEND;TZID=Europe/London:20220623T203000
DTSTAMP:20260422T182354
CREATED:20220607T085909Z
LAST-MODIFIED:20220607T113751Z
UID:6800-1656010800-1656016200@animalrebellion.org
SUMMARY:Stream of Solidarity with Dr Camila Perussello
DESCRIPTION:Dr Camila Perussello is a food scientist\, vegan and author based in Dublin\, Ireland. A former researcher at the Irish Food and Agriculture Development Authority and the Technological University Dublin\, she now consults for the food industry helping companies transition away from animal use. Dr Perussello has published dozens of academic papers and book chapters on food engineering and agricultural science. She is also the author of Food for Thought\, a science-based book on the intersection of food production\, animal rights\, and a wide range of humanist issues. For more details about her work\, please visit www.camilaperussello.com. \n\n\n\nDr Perussello will deliver her prevention “Animal welfare: for the animals or profit?” followed by a Q&A. \n\n\n\nThroughout decades\, the animal exploitation industry has been gradually implementing animal welfare measures mainly as a response to public pressure. To many\, “humane” slaughter techniques\, cage enrichment in egg farms and the ban on sow stalls might seem like important achievements in terms of how we treat nonhuman animals. However\, most of us fail to realise that the objective of animal farming is deriving money from animals. In this presentation\, Dr. Camila Perussello will discuss how the animal welfare narrative not only masks the inherent suffering involved in animal use\, but can also leverage the revenue of the animal industry by increasing productivity and improving brand reputation. Through our food purchases\, we can either perpetuate injustice and environmental destruction or reshape industry and society. \n\n\n\n \n\n\n\nhttps://www.eventbrite.co.uk/e/358414045057
URL:https://animalrebellion.org/event/stream-of-solidarity-with-dr-camila-perussello/
ATTACH;FMTTYPE=image/jpeg:https://animalrebellion.org/wp-content/uploads/2022/06/photo_2022-06-06-18.15.17.jpeg
END:VEVENT
BEGIN:VEVENT
DTSTART;TZID=Europe/London:20220623T190000
DTEND;TZID=Europe/London:20220623T200000
DTSTAMP:20260422T182354
CREATED:20220614T164938Z
LAST-MODIFIED:20220614T164938Z
UID:6875-1656010800-1656014400@animalrebellion.org
SUMMARY:Join Us To Stop The Supply of Dairy
DESCRIPTION:This September Animal Rebellion will be nonviolently stopping the supply of dairy across the UK with 500 people over a 1-2 week period\, cutting off the supply of milk to supermarkets and causing unignorable high-level disruption which will be felt by tens of million of people across the UK. \n\n\n\nBy causing this disruption day after day we will transform public opinion and pressure the government to act.  \n\n\n\nWe must take this action because billions of animals are dying in the dairy industry and other animal farming and fishing industries. We must take this action because we are in a climate and nature emergency and what we do in the next 2-3 years will determine the future of humanity.  \n\n\n\nThe science us that transitioning to a plant-based future and rewilding the freed-up land is the key solution to the climate and nature emergencies. We can bring back wildlife and drawdown enough carbon from the atmosphere to make the UK net negative in emissions. This will buy us the critical time we need to make other transformative changes and prevent environmental catastrophe. We will be demanding this of the government. \n\n\n\nCome along to this talk to hear about the campaign and find out how you can get involved. We rebel for all life. \n\n\n\n \n\n\n\nhttps://www.eventbrite.co.uk/e/365525565807
URL:https://animalrebellion.org/event/join-us-to-stop-the-supply-of-dairy-2/
ATTACH;FMTTYPE=image/jpeg:https://animalrebellion.org/wp-content/uploads/2022/06/signal-2022-06-08-092450_001.jpeg
END:VEVENT
BEGIN:VEVENT
DTSTART;TZID=Europe/London:20220623T190000
DTEND;TZID=Europe/London:20220623T200000
DTSTAMP:20260422T182354
CREATED:20220627T102537Z
LAST-MODIFIED:20220627T102537Z
UID:6913-1656010800-1656014400@animalrebellion.org
SUMMARY:Join Us To Stop The Supply of Dairy Copy Copy
DESCRIPTION:This September Animal Rebellion will be nonviolently stopping the supply of dairy across the UK with 500 people over a 1-2 week period\, cutting off the supply of milk to supermarkets and causing unignorable high-level disruption which will be felt by tens of million of people across the UK. \n\n\n\nBy causing this disruption day after day we will transform public opinion and pressure the government to act.  \n\n\n\nWe must take this action because billions of animals are dying in the dairy industry and other animal farming and fishing industries. We must take this action because we are in a climate and nature emergency and what we do in the next 2-3 years will determine the future of humanity.  \n\n\n\nThe science us that transitioning to a plant-based future and rewilding the freed-up land is the key solution to the climate and nature emergencies. We can bring back wildlife and drawdown enough carbon from the atmosphere to make the UK net negative in emissions. This will buy us the critical time we need to make other transformative changes and prevent environmental catastrophe. We will be demanding this of the government. \n\n\n\nCome along to this talk to hear about the campaign and find out how you can get involved. We rebel for all life. \n\n\n\n \n\n\n\nhttps://www.eventbrite.co.uk/e/365525565807
URL:https://animalrebellion.org/event/join-us-to-stop-the-supply-of-dairy-2-copy-copy/
ATTACH;FMTTYPE=image/jpeg:https://animalrebellion.org/wp-content/uploads/2022/06/signal-2022-06-08-092450_001.jpeg
END:VEVENT
BEGIN:VEVENT
DTSTART;TZID=Europe/London:20220625T090000
DTEND;TZID=Europe/London:20220626T170000
DTSTAMP:20260422T182354
CREATED:20220525T212941Z
LAST-MODIFIED:20220610T185158Z
UID:6694-1656147600-1656262800@animalrebellion.org
SUMMARY:Onboarding Weekend
DESCRIPTION:Are you new to volunteering with Animal Rebellion? Come along to our onboarding weekend\, we will cover our four core areas of DNA; Culture\, Structure\, Story and Strategy on the Saturday\, and on Sunday we will have skill sharing for new and existing volunteers around effective organising\, including; Facilitation training\, empowered and effective teams\, how to create and deliver workshops. This will also be an opportunity to meet other volunteers and get to know each other. \n\n\n\nRegister via the link below.
URL:https://animalrebellion.org/event/onboarding-weekend/
LOCATION:London (TBA)
CATEGORIES:DNA,Internal Calendar,Local Groups,London,Public,Talks & Trainings
ATTACH;FMTTYPE=image/jpeg:https://animalrebellion.org/wp-content/uploads/2022/05/Introduction-to-Animal-Rebellion-Graphic.jpg
END:VEVENT
BEGIN:VEVENT
DTSTART;TZID=Europe/London:20220626T103000
DTEND;TZID=Europe/London:20220626T160000
DTSTAMP:20260422T182354
CREATED:20220602T162515Z
LAST-MODIFIED:20220602T174009Z
UID:6755-1656239400-1656259200@animalrebellion.org
SUMMARY:Exmouth Vegan Market
DESCRIPTION:Exmouth Vegan Market\, Ocean\, Exmouth. 10.30-4pm. https://www.facebook.com/exmouthveganmarket/ Animal Rebellion Devon will have a stall.
URL:https://animalrebellion.org/event/exmouth-vegan-market/
CATEGORIES:Devon,Local Groups,LocalGroups,South
ATTACH;FMTTYPE=image/jpeg:https://animalrebellion.org/wp-content/uploads/2022/06/5E2E03F6-DF22-4D0F-B044-AB3B1F06EBF1.jpeg
END:VEVENT
BEGIN:VEVENT
DTSTART;TZID=Europe/London:20220630T190000
DTEND;TZID=Europe/London:20220630T200000
DTSTAMP:20260422T182354
CREATED:20220627T102443Z
LAST-MODIFIED:20220627T102625Z
UID:6912-1656615600-1656619200@animalrebellion.org
SUMMARY:Join Us To Stop The Supply of Dairy
DESCRIPTION:This September Animal Rebellion will be nonviolently stopping the supply of dairy across the UK with 500 people over a 1-2 week period\, cutting off the supply of milk to supermarkets and causing unignorable high-level disruption which will be felt by tens of million of people across the UK. \n\n\n\nBy causing this disruption day after day we will transform public opinion and pressure the government to act.  \n\n\n\nWe must take this action because billions of animals are dying in the dairy industry and other animal farming and fishing industries. We must take this action because we are in a climate and nature emergency and what we do in the next 2-3 years will determine the future of humanity.  \n\n\n\nThe science us that transitioning to a plant-based future and rewilding the freed-up land is the key solution to the climate and nature emergencies. We can bring back wildlife and drawdown enough carbon from the atmosphere to make the UK net negative in emissions. This will buy us the critical time we need to make other transformative changes and prevent environmental catastrophe. We will be demanding this of the government. \n\n\n\nCome along to this talk to hear about the campaign and find out how you can get involved. We rebel for all life. \n\n\n\n \n\n\n\nhttps://www.eventbrite.co.uk/e/365525565807
URL:https://animalrebellion.org/event/join-us-to-stop-the-supply-of-dairy-2-copy/
ATTACH;FMTTYPE=image/jpeg:https://animalrebellion.org/wp-content/uploads/2022/06/signal-2022-06-08-092450_001.jpeg
END:VEVENT
END:VCALENDAR