BEGIN:VCALENDAR
VERSION:2.0
PRODID:-//Animal Rebellion - ECPv6.4.0.1//NONSGML v1.0//EN
CALSCALE:GREGORIAN
METHOD:PUBLISH
X-WR-CALNAME:Animal Rebellion
X-ORIGINAL-URL:https://animalrebellion.org
X-WR-CALDESC:Events for Animal Rebellion
REFRESH-INTERVAL;VALUE=DURATION:PT1H
X-Robots-Tag:noindex
X-PUBLISHED-TTL:PT1H
BEGIN:VTIMEZONE
TZID:Europe/London
BEGIN:DAYLIGHT
TZOFFSETFROM:+0000
TZOFFSETTO:+0100
TZNAME:BST
DTSTART:20220327T010000
END:DAYLIGHT
BEGIN:STANDARD
TZOFFSETFROM:+0100
TZOFFSETTO:+0000
TZNAME:GMT
DTSTART:20221030T010000
END:STANDARD
END:VTIMEZONE
BEGIN:VEVENT
DTSTART;TZID=Europe/London:20220528T160000
DTEND;TZID=Europe/London:20220528T180000
DTSTAMP:20260420T082648
CREATED:20220526T121915Z
LAST-MODIFIED:20220526T122321Z
UID:6704-1653753600-1653760800@animalrebellion.org
SUMMARY:Plant-based Picnic
DESCRIPTION:Join us in Victoria Park to relax\, soak up the sun\, and eat delicious vegan snacks! \n\n\n\nPlease bring something to share at the picnic and together we will create a plant-based feast! \n\n\n\nMeeting at Victoria Park at 4pm. \n\n\n\nAll you need is yourself\, we are a super friendly group and eager to meet some new faces! Newbies and quiet people always welcome. \n\n\n\nJoin our WhatsApp here: https://chat.whatsapp.com/HYcMc8iZ140BPOxE6yhp09
URL:https://animalrebellion.org/event/plant-based-picnic/
LOCATION:Victoria Park\, Grove Road\, London\, United Kingdom
END:VEVENT
END:VCALENDAR